BEGIN:VCALENDAR
VERSION:2.0
PRODID:-//ChamberMaster//Event Calendar 2.0//EN
METHOD:PUBLISH
X-PUBLISHED-TTL:P3D
REFRESH-INTERVAL:P3D
CALSCALE:GREGORIAN
BEGIN:VEVENT
DTSTART:20161211T000000Z
DTEND:20161211T020000Z
X-MICROSOFT-CDO-ALLDAYEVENT:FALSE
SUMMARY:2016 Perdido Key Chamber Holiday Party & Annual Meeting
DESCRIPTION:All Perdido Key Area Chamber of Commerce members are invited to join us for our Holiday Party & Annual Meeting on Saturday\, Dec. 10th from 6-8 pm.\n\n\n\nThis year's holiday party will be held at the Perdido Key Oyster Bar Restaurant & Marina. Tickets are $30\, which includes heavy hors d'oeuvres  and your first drink free.\n\n\n\nDuring the evening\, we will welcome our incoming Board of Directors and the Executive Committee will be chosen.
X-ALT-DESC;FMTTYPE=text/html:<span style="font-size:14px\;"><span style="font-family:arial\;">All Perdido Key Area Chamber of Commerce members are invited to join us for our Holiday Party &amp\; Annual Meeting on Saturday\, Dec. 10th from 6-8 pm.<br />\n<br />\nThis year&#39\;s holiday party will be held at the Perdido Key Oyster Bar Restaurant &amp\; Marina. Tickets are $30\, which includes heavy hors d&#39\;oeuvres&#8203\;&nbsp\;and your first drink free.<br />\n<br />\nDuring the evening\, we will welcome our incoming Board of Directors and the Executive Committee will be chosen.</span></span>
LOCATION:Perdido Key Oyster Bar Restaurant & Marina
UID:e.2644.5599
SEQUENCE:3
DTSTAMP:20260421T171830Z
URL:https://business.perdidochamber.com/events/details/2016-perdido-key-chamber-holiday-party-annual-meeting-5599
END:VEVENT

END:VCALENDAR
