BEGIN:VCALENDAR
VERSION:2.0
PRODID:-//ChamberMaster//Event Calendar 2.0//EN
METHOD:PUBLISH
X-PUBLISHED-TTL:P3D
REFRESH-INTERVAL:P3D
CALSCALE:GREGORIAN
BEGIN:VEVENT
DTSTART:20191203T140000Z
DTEND:20191204T033000Z
X-MICROSOFT-CDO-ALLDAYEVENT:FALSE
SUMMARY:2019 City Brief Breakfast: Pensacola
DESCRIPTION:On December 3\, 2019\, join the Perdido Key Area Chamber of Commerce for a breakfast to hear from City Administrator for the City of Pensacola\, Florida\, Keith Wilkins as he updates us on the happenings in Pensacola!
X-ALT-DESC;FMTTYPE=text/html:On December 3\, 2019\, join the Perdido Key Area Chamber of Commerce for a breakfast to hear from City Administrator for the City of Pensacola\, Florida\, Keith Wilkins as he updates us on the happenings in Pensacola!&nbsp\;<br />\n<br />\n&nbsp\;\n<hr />
LOCATION:Eden Condominiums 16281 Perdido Key Dr Pensacola\, FL 32507
UID:e.2644.17470
SEQUENCE:3
DTSTAMP:20260422T071642Z
URL:https://business.perdidochamber.com/events/details/2019-city-brief-breakfast-pensacola-17470
END:VEVENT

END:VCALENDAR
