BEGIN:VCALENDAR
VERSION:2.0
PRODID:-//ChamberMaster//Event Calendar 2.0//EN
METHOD:PUBLISH
X-PUBLISHED-TTL:P3D
REFRESH-INTERVAL:P3D
CALSCALE:GREGORIAN
BEGIN:VEVENT
DTSTART:20191207T230000Z
DTEND:20191208T020000Z
X-MICROSOFT-CDO-ALLDAYEVENT:FALSE
SUMMARY:2019 Perdido Holiday Flicks on the Field! Featuring THE GRINCH!
DESCRIPTION:This month's Flicks on the Field to feature a special holiday\, family film: THE GRINCH! \n\n\n\nFollowing the Perdido Area Community Craft and Vendor Fair\, everyone is invited to gather their blankets and lawn chairs to gather on the lawn for a free showing of The Grinch during a special Holiday Flicks on the Field! Guests can also enjoy the movie from their vehicle! Concessions will be available provided by the Pensacola Greyhound Track & Poker Room. \n\n \n\nThis special edition of Flicks on the Field can be found on the field at the Pensacola Greyhound Track located at 951 Dog Track Road Pensacola\, FL 32507. Flicks on the Field is held once a month as a FREE Family-friendly movie night here in the Perdido Area! Flicks on the Field is a project put together by the Keyholders and Events Committee at the Perdido Key Area Chamber of Commerce\, YourTek professionals\, and Wind Creek Hospitality in an attempt to provide a fun-filled community event to bring together our Perdido Area of families and friends. Each event has an opportunity for local businesses to sponsor with their signage and even a 30 second commercial before the show! Any local businesses wishing to sponsor a Flicks on the Field should contact the chamber at 850-492-4660 or info@perdidochamber.com.\n\n\n\nFollow the Perdido Key Area Chamber of Commerce on Facebook to keep up with the latest news and events for Flicks on the Field!\n\n\n\nBe Sure to Share the Facebook Event with your neighbors and friends!
X-ALT-DESC;FMTTYPE=text/html:<strong>This month&rsquo\;s Flicks on the Field to feature a special holiday\, family film:&nbsp\;THE GRINCH!&nbsp\;</strong><br />\n<br />\nFollowing the <a href="https://business.perdidochamber.com/events/details/perdido-area-community-craft-vendor-fair-17431">Perdido Area Community Craft and Vendor Fair</a>\,&nbsp\;everyone is invited to gather their blankets and lawn chairs to gather on the lawn for a free showing of The Grinch during a special Holiday Flicks on the Field! Guests can also enjoy the movie from their vehicle! Concessions will be available provided by the <a href="https://www.pensacolagreyhoundtrack.com/">Pensacola Greyhound Track &amp\; Poker Room</a>.&nbsp\;<br />\n&nbsp\;<br />\nThis special edition of Flicks on the Field can be found on the field at the Pensacola Greyhound Track located at <a href="https://www.google.com/maps/place/Pensacola+Greyhound+Track/@30.3966446\,-87.3735665\,15z/data=!4m5!3m4!1s0x0:0x2d1a3fdeb90f143f!8m2!3d30.3966446!4d-87.3735665">951 Dog Track Road Pensacola\, FL 32507</a>. Flicks on the Field is held once a month as a FREE Family-friendly movie night here in the Perdido Area! Flicks on the Field is a project put together by the Keyholders and Events Committee at the Perdido Key Area Chamber of Commerce\, <a href="https://www.yourtekpro.com/">YourTek professionals</a>\, and <a href="https://windcreekhospitality.com/">Wind Creek Hospitality</a> in an attempt to provide a fun-filled community event to bring together our Perdido Area of families and friends. Each event has an opportunity for local businesses to sponsor with their signage and even a 30 second commercial before the show! Any local businesses wishing to sponsor a Flicks on the Field should contact the chamber at 850-492-4660 or <a href="mailto:info@perdidochamber.com">info@perdidochamber.com</a>.<br />\n<br />\nFollow the <a href="https://www.facebook.com/perdidochamber">Perdido Key Area Chamber of Commerce on Facebook</a> to keep up with the latest news and events for Flicks on the Field!<br />\n<br />\nBe Sure to <a href="https://www.facebook.com/events/602732380190001/">Share the Facebook Event</a> with your neighbors and friends!&nbsp\;
LOCATION:The Field located at the Pensacola Greyhound Track 951 Dog Track Road\, Pensacola\, FL 32506
UID:e.2644.17430
SEQUENCE:3
DTSTAMP:20260422T071903Z
URL:https://business.perdidochamber.com/events/details/2019-perdido-holiday-flicks-on-the-field-featuring-the-grinch-17430
END:VEVENT

END:VCALENDAR
