BEGIN:VCALENDAR
VERSION:2.0
PRODID:-//ChamberMaster//Event Calendar 2.0//EN
METHOD:PUBLISH
X-PUBLISHED-TTL:P3D
REFRESH-INTERVAL:P3D
CALSCALE:GREGORIAN
BEGIN:VEVENT
DTSTART:20191115T160000Z
DTEND:20191115T210000Z
X-MICROSOFT-CDO-ALLDAYEVENT:FALSE
SUMMARY:2019 Ribbon Cutting: The HER Foundation\, Inc.
DESCRIPTION:Join us for a Ribbon Cutting and Open House for The HER Foundation\, Inc.! \nThe HER Foundation is committed to providing meals\, lodging\, access to medical care and job placement services for identified women veterans who are homeless or are in danger of becoming homeless. \n\n\n\nThe Ribbon Cutting and Open House of the new home for women veterans " Faith House" is on Friday\, November 15\, 2019\, from 10 Am to 3 Pm.\n\n\n\nThe Perdido Chamber will be there to cut the ribbon at 10:00 AM! Please join us in welcoming our new members and celebrating the opening of their new home! \n\n\n\nThere is also a BBQ event open to the public on Saturday\, November 16th\, 2019\, from 11:00 am to 3:00 pm.
X-ALT-DESC;FMTTYPE=text/html:Join us for a Ribbon Cutting and Open House for The HER Foundation\, Inc.!&nbsp\;\n<p color:="" open="" pointer-events:="">The HER Foundation is committed to providing meals\, lodging\, access to medical care and job placement services for identified women veterans who are homeless or are in danger of becoming homeless.&nbsp\;<br />\n<br />\nThe Ribbon Cutting and Open House of the new home for women veterans &quot\; Faith House&quot\; is on Friday\, November 15\, 2019\, from 10 Am to 3 Pm.<br />\n<br />\nThe Perdido Chamber will be there to cut the ribbon at 10:00 AM! Please join us in welcoming our new members and celebrating the opening of their new home!&nbsp\;<br />\n<br />\nThere is also a BBQ event open to the public on Saturday\, November 16th\, 2019\, from 11:00 am to 3:00 pm.<br />\n<br />\n&nbsp\;</p>\n
LOCATION:The HER Foundation\, Inc. 6150 Fairfield Dr. Pensacola\, FL 32506
UID:e.2644.19108
SEQUENCE:3
DTSTAMP:20260422T071654Z
URL:https://business.perdidochamber.com/events/details/2019-ribbon-cutting-the-her-foundation-inc-19108
END:VEVENT

END:VCALENDAR
