BEGIN:VCALENDAR
VERSION:2.0
PRODID:-//ChamberMaster//Event Calendar 2.0//EN
METHOD:PUBLISH
X-PUBLISHED-TTL:P3D
REFRESH-INTERVAL:P3D
CALSCALE:GREGORIAN
BEGIN:VEVENT
DTSTART:20200520T220000Z
DTEND:20200521T000000Z
X-MICROSOFT-CDO-ALLDAYEVENT:FALSE
SUMMARY:2020 Business After Hours May 2020
DESCRIPTION:The Perdido Key Area Chamber of Commerce would like to invite all Chamber members and future members to our monthly Business After Hours networking social.\n\n\n\nThis high-energy\, after hours networking event is held on the third Wednesday of each month from 5:00 p.m. - 7:00 p.m.  This event allows Chamber members to network with each other in a relaxed\, informal setting at the host's location.\n\n\n\nMay Business After Hours will be held at SanRoc Cay Marina and Shops \, 27267 Perdido Beach Blvd. Orange Beach AL 36561.\n\n\n\nWe will be having this Business After Hours online on Zoom and in person at the SanRoc Cay Marina. If you are going to attend online\, please register to get the confirmation email. If you are going to attend in person\, the social distancing rules are to be applied. We encourage you to attend in person to support our local shops & restaurants!\n\n\n\n\n\n\n\nFees/Admission:\n\nFree for all members and non-members
X-ALT-DESC;FMTTYPE=text/html:<span style="color: rgb(29\, 33\, 41)\; font-family: Helvetica\, Arial\, sans-serif\; font-size: 14px\;"><span style="font-family:arial\;">The</span> Perdido Key Area Chamber of Commerce would like to invite all Chamber members and future members to our monthly Business After Hours networking social.</span><br />\n<br />\n<span style="font-family:tahoma\;"><span style="font-size:14px\;">This high-energy\, after hours networking event is held on the third Wednesday of each month from 5:00 p.m. - 7:00 p.m.&nbsp\; This event allows Chamber members to network with each other in a relaxed\, informal setting at the host&#39\;s location.</span></span><br />\n<br />\n<span style="color: rgb(29\, 33\, 41)\; font-family: Helvetica\, Arial\, sans-serif\; font-size: 14px\;">May Business After Hours will be held at SanRoc Cay Marina and Shops \, 27267 Perdido Beach Blvd. Orange Beach AL 36561.<br />\n<br />\nWe will be having this Business After Hours online on Zoom and in person at the SanRoc Cay Marina. If you are going to attend online\, please register to get the confirmation email. If you are going to attend in person\, the social distancing rules are to be applied. We encourage you to attend in person to support our local shops &amp\; restaurants!</span><br style="color: rgb(29\, 33\, 41)\; font-family: Helvetica\, Arial\, sans-serif\; font-size: 14px\;" />\n<br style="color: rgb(29\, 33\, 41)\; font-family: Helvetica\, Arial\, sans-serif\; font-size: 14px\;" />\n<br style="color: rgb(29\, 33\, 41)\; font-family: Helvetica\, Arial\, sans-serif\; font-size: 14px\;" />\n<br style="color: rgb(29\, 33\, 41)\; font-family: Helvetica\, Arial\, sans-serif\; font-size: 14px\;" />\n<span style="color: rgb(29\, 33\, 41)\; font-family: Helvetica\, Arial\, sans-serif\; font-size: 14px\;">Fees/Admission:</span><br style="color: rgb(29\, 33\, 41)\; font-family: Helvetica\, Arial\, sans-serif\; font-size: 14px\;" />\n<span style="color: rgb(29\, 33\, 41)\; font-family: Helvetica\, Arial\, sans-serif\; font-size: 14px\;">Free for all members and non-members</span><br style="color: rgb(29\, 33\, 41)\; font-family: Helvetica\, Arial\, sans-serif\; font-size: 14px\;" />\n&nbsp\;
LOCATION:SanRoc Cay Marina & Shops
UID:e.2644.19407
SEQUENCE:3
DTSTAMP:20260421T210132Z
URL:https://business.perdidochamber.com/events/details/2020-business-after-hours-may-2020-19407
END:VEVENT

END:VCALENDAR
