BEGIN:VCALENDAR
VERSION:2.0
PRODID:-//ChamberMaster//Event Calendar 2.0//EN
METHOD:PUBLISH
X-PUBLISHED-TTL:P3D
REFRESH-INTERVAL:P3D
CALSCALE:GREGORIAN
BEGIN:VEVENT
DTSTART:20200623T190000Z
DTEND:20200623T210000Z
X-MICROSOFT-CDO-ALLDAYEVENT:FALSE
SUMMARY:2020 Hurricane Preparedness meeting for HOA and COA mangers
DESCRIPTION:Perdido Key Area Chamber of Commerce will be hosting a presentation and Q&A session regarding hurricane preparedness for the 2020 season. This presentation will be specifically toward COA and HOA managers.  2:00 p.m. Tuesday\, June 23rd at the Perdido Key Community Center 15500 Perdido Key Drive Perdido Key\, FL 32507\n\n \n\nPresenters include Eric Gilmore\, Escambia County Emergency Manager and Jason Rogers\, incoming Escambia County Public Safety Director \n\n\n\nSubject matter:\nUtility loss/restoration \n\nEvacuation/Access \n\nInfrastructure Closures \n\nPublic and Individual Assistance \n\nDamage Assessment \n\n\nAnd other topics of interest to COA and HOA managers\n\n\n\nThe presentation is free to attend.  Please pre-register to assist us in planning room set up
X-ALT-DESC;FMTTYPE=text/html:<span style="font-family:arial\;"><span style="font-size:10.0pt\;">Perdido Key Area Chamber of Commerce will be hosting a presentation and Q&amp\;A session regarding hurricane preparedness for the 2020 season. This presentation will be specifically toward COA and HOA managers.&nbsp\; 2:00 p.m. Tuesday\, June 23<sup>rd</sup> at the Perdido Key Community Center 15500 Perdido Key Drive Perdido Key\, FL 32507</span><br />\n&nbsp\;<br />\n<span style="font-size:10.0pt\;">Presenters include Eric Gilmore\, Escambia County Emergency Manager and Jason Rogers\, incoming Escambia County Public Safety Director</span>&nbsp\;<br />\n<br />\n<span style="font-size:10.0pt\;">Subject matter:</span></span>\n<p class="p1" style="margin:0in\;margin-bottom:.0001pt"><span style="font-family:arial\;"><span class="s1">Utility loss/restoration&nbsp\;</span></span><o:p></o:p></p>\n\n<p class="p1" style="margin:0in\;margin-bottom:.0001pt\;font-stretch: normal\;\n-webkit-text-size-adjust: auto"><span style="font-family:arial\;"><span class="s1">Evacuation/Access&nbsp\;</span></span><o:p></o:p></p>\n\n<p class="p1" style="margin:0in\;margin-bottom:.0001pt\;font-stretch: normal\;\n-webkit-text-size-adjust: auto"><span style="font-family:arial\;"><span class="s1">Infrastructure Closures&nbsp\;</span></span><o:p></o:p></p>\n\n<p class="p1" style="margin:0in\;margin-bottom:.0001pt\;font-stretch: normal\;\n-webkit-text-size-adjust: auto"><span style="font-family:arial\;"><span class="s1">Public and Individual Assistance&nbsp\;</span></span><o:p></o:p></p>\n\n<p class="p1" style="margin:0in\;margin-bottom:.0001pt\;font-stretch: normal\;\n-webkit-text-size-adjust: auto"><span style="font-family:arial\;"><span class="s1">Damage Assessment&nbsp\;</span></span><o:p></o:p></p>\n<br />\n<span style="font-family:arial\;"><span style="font-size:10.0pt\;">And other topics of interest to COA and HOA managers<br />\n<br />\nThe presentation is free to attend.&nbsp\; Please pre-register to assist us in planning room set up&nbsp\;</span></span>
LOCATION:15500 Perdido Key Drive Perdido Key\, FL 32507
UID:e.2644.20292
SEQUENCE:3
DTSTAMP:20260421T193222Z
URL:https://business.perdidochamber.com/events/details/2020-hurricane-preparedness-meeting-for-hoa-and-coa-mangers-20292
END:VEVENT

END:VCALENDAR
