BEGIN:VCALENDAR
VERSION:2.0
PRODID:-//ChamberMaster//Event Calendar 2.0//EN
METHOD:PUBLISH
X-PUBLISHED-TTL:P3D
REFRESH-INTERVAL:P3D
CALSCALE:GREGORIAN
BEGIN:VEVENT
DTSTART:20200605T133000Z
DTEND:20200605T143000Z
X-MICROSOFT-CDO-ALLDAYEVENT:FALSE
SUMMARY:2020 Virtual Key to Networking Coffee
DESCRIPTION:Get ready to make some new connections! Virtually connect and engage with other local business professionals to grow your network. This event is an open networking group for all that provides a great opportunity for anyone to engage in the Perdido Community.
X-ALT-DESC;FMTTYPE=text/html:<span style="color: rgb(51\, 51\, 51)\; font-family: sans-serif\, Arial\, Verdana\, &quot\;Trebuchet MS&quot\;\; font-size: 13px\; background-color: rgb(255\, 255\, 255)\;">Get ready to make some new connections! Virtually connect and engage with other local business professionals to grow your network. This event is an open networking group for all that provides a great opportunity for anyone to engage in the Perdido Community.&nbsp\;</span>
LOCATION:From your own home or office!
UID:e.2644.20286
SEQUENCE:3
DTSTAMP:20260421T192822Z
URL:https://business.perdidochamber.com/events/details/2020-virtual-key-to-networking-coffee-20286
END:VEVENT

END:VCALENDAR
