BEGIN:VCALENDAR
VERSION:2.0
PRODID:-//ChamberMaster//Event Calendar 2.0//EN
METHOD:PUBLISH
X-PUBLISHED-TTL:P3D
REFRESH-INTERVAL:P3D
CALSCALE:GREGORIAN
BEGIN:VEVENT
DTSTART:20200508T140000Z
DTEND:20200508T150000Z
X-MICROSOFT-CDO-ALLDAYEVENT:FALSE
SUMMARY:2020 Virtual Keys to Networking: Pajama Party!
DESCRIPTION:Working remotely and just stay in your pajamas all day?\n\n\n\nWell\, come join us for a cup of coffee and show off those pj's!\n\n\n\nVirtually connect and engage with other local business professionals to grow your network. This event is an open networking group for all that provides a great opportunity for anyone to engage in the Perdido Community.
X-ALT-DESC;FMTTYPE=text/html:<font color="#232333" face="Lato\, Helvetica\, Arial"><span style="font-size: 14px\;">Working remotely and just stay in your pajamas all day?</span></font><br style="box-sizing: border-box\; color: rgb(35\, 35\, 51)\; font-family: Lato\, Helvetica\, Arial\; font-size: 14px\; background-color: rgb(255\, 255\, 255)\;" />\n<br style="box-sizing: border-box\; color: rgb(35\, 35\, 51)\; font-family: Lato\, Helvetica\, Arial\; font-size: 14px\;" />\n<span style="color: rgb(35\, 35\, 51)\; font-family: Lato\, Helvetica\, Arial\; font-size: 14px\;">Well\, come join us for a cup of coffee and show off those pj&#39\;s!</span><br style="box-sizing: border-box\; color: rgb(35\, 35\, 51)\; font-family: Lato\, Helvetica\, Arial\; font-size: 14px\; background-color: rgb(255\, 255\, 255)\;" />\n<br style="box-sizing: border-box\; color: rgb(35\, 35\, 51)\; font-family: Lato\, Helvetica\, Arial\; font-size: 14px\; background-color: rgb(255\, 255\, 255)\;" />\n<span style="color: rgb(35\, 35\, 51)\; font-family: Lato\, Helvetica\, Arial\; font-size: 14px\; background-color: rgb(255\, 255\, 255)\;">Virtually connect and engage with other local business professionals to grow your network. This event is an open networking group for all that provides a great opportunity for anyone to engage in the Perdido Community.</span>
LOCATION:From the comfort of your own home!
UID:e.2644.20261
SEQUENCE:3
DTSTAMP:20260421T210204Z
URL:https://business.perdidochamber.com/events/details/2020-virtual-keys-to-networking-pajama-party-20261
END:VEVENT

END:VCALENDAR
