BEGIN:VCALENDAR
VERSION:2.0
PRODID:-//ChamberMaster//Event Calendar 2.0//EN
METHOD:PUBLISH
X-PUBLISHED-TTL:P3D
REFRESH-INTERVAL:P3D
CALSCALE:GREGORIAN
BEGIN:VEVENT
DTSTART:20200424T130000Z
DTEND:20200424T140000Z
X-MICROSOFT-CDO-ALLDAYEVENT:FALSE
SUMMARY:2020 Virtual Keys to Networking: Pet Edition!
DESCRIPTION:Do you own a dog\, cat\, goldfish or bearded dragon?\n\n\n\nCome join us for a coffee and show off your pet!\n\n\n\nGet ready to make some new connections!\n\n\n\nVirtually connect and engage with other local business professionals to grow your network. This event is an open networking group for all that provides a great opportunity for anyone to engage in the Perdido Community.
X-ALT-DESC;FMTTYPE=text/html:<span style="color: rgb(35\, 35\, 51)\; font-family: Lato\, Helvetica\, Arial\; font-size: 14px\; background-color: rgb(255\, 255\, 255)\;">Do you own a dog\, cat\, goldfish or bearded dragon?</span><br style="box-sizing: border-box\; color: rgb(35\, 35\, 51)\; font-family: Lato\, Helvetica\, Arial\; font-size: 14px\; background-color: rgb(255\, 255\, 255)\;" />\n<br style="box-sizing: border-box\; color: rgb(35\, 35\, 51)\; font-family: Lato\, Helvetica\, Arial\; font-size: 14px\; background-color: rgb(255\, 255\, 255)\;" />\n<span style="color: rgb(35\, 35\, 51)\; font-family: Lato\, Helvetica\, Arial\; font-size: 14px\; background-color: rgb(255\, 255\, 255)\;">Come join us for a coffee and show off your pet!</span><br style="box-sizing: border-box\; color: rgb(35\, 35\, 51)\; font-family: Lato\, Helvetica\, Arial\; font-size: 14px\; background-color: rgb(255\, 255\, 255)\;" />\n<br style="box-sizing: border-box\; color: rgb(35\, 35\, 51)\; font-family: Lato\, Helvetica\, Arial\; font-size: 14px\; background-color: rgb(255\, 255\, 255)\;" />\n<span style="color: rgb(35\, 35\, 51)\; font-family: Lato\, Helvetica\, Arial\; font-size: 14px\; background-color: rgb(255\, 255\, 255)\;">Get ready to make some new connections!</span><br style="box-sizing: border-box\; color: rgb(35\, 35\, 51)\; font-family: Lato\, Helvetica\, Arial\; font-size: 14px\; background-color: rgb(255\, 255\, 255)\;" />\n<br style="box-sizing: border-box\; color: rgb(35\, 35\, 51)\; font-family: Lato\, Helvetica\, Arial\; font-size: 14px\; background-color: rgb(255\, 255\, 255)\;" />\n<span style="color: rgb(35\, 35\, 51)\; font-family: Lato\, Helvetica\, Arial\; font-size: 14px\; background-color: rgb(255\, 255\, 255)\;">Virtually connect and engage with other local business professionals to grow your network. This event is an open networking group for all that provides a great opportunity for anyone to engage in the Perdido Community.</span>
LOCATION:From the comfort of your own home!
UID:e.2644.20258
SEQUENCE:3
DTSTAMP:20260422T000639Z
URL:https://business.perdidochamber.com/events/details/2020-virtual-keys-to-networking-pet-edition-20258
END:VEVENT

END:VCALENDAR
