BEGIN:VCALENDAR
VERSION:2.0
PRODID:-//ChamberMaster//Event Calendar 2.0//EN
METHOD:PUBLISH
X-PUBLISHED-TTL:P3D
REFRESH-INTERVAL:P3D
CALSCALE:GREGORIAN
BEGIN:VEVENT
DTSTART:20211211T000000Z
DTEND:20211211T030000Z
X-MICROSOFT-CDO-ALLDAYEVENT:FALSE
SUMMARY:2021 Tacky Tinseltown Holiday Party
DESCRIPTION:Celebrate the end of another successful year at The Perdido Chamber's Annual Holiday Party! This year\, we are celebrating the holidays with fun & casual\, tacky-sweater themed party at the Flora-Bama Yacht Club! Come wearing your tackiest holiday attire\, and possibly win a prize!  \n\n\n\nTickets: \n\n$15 Members/ $25 Non-Members
X-ALT-DESC;FMTTYPE=text/html:Celebrate the end of another successful year at The Perdido Chamber&#39\;s Annual Holiday Party! This year\, we are celebrating the holidays with fun &amp\; casual\, tacky-sweater themed party at the Flora-Bama Yacht Club! Come wearing your tackiest holiday attire\, and possibly win a prize!&nbsp\;&nbsp\;<br />\n<br />\nTickets:&nbsp\;<br />\n$15 Members/ $25 Non-Members
LOCATION:Flora-Bama Yacht Club 17350 Perdido Key Drive Pensacola\, FL 32507
UID:e.2644.22265
SEQUENCE:3
DTSTAMP:20260421T212502Z
URL:https://business.perdidochamber.com/events/details/2021-tacky-tinseltown-holiday-party-22265
END:VEVENT

END:VCALENDAR
