BEGIN:VCALENDAR
VERSION:2.0
PRODID:-//ChamberMaster//Event Calendar 2.0//EN
METHOD:PUBLISH
X-PUBLISHED-TTL:P3D
REFRESH-INTERVAL:P3D
CALSCALE:GREGORIAN
BEGIN:VEVENT
DTSTART:20221202T220000Z
DTEND:20221203T000000Z
X-MICROSOFT-CDO-ALLDAYEVENT:FALSE
SUMMARY:2022 2nd Annual Christmas Extravaganza Shopping at Seagrass Village of Gulf Shores
DESCRIPTION:Seagrass Village Gulf Shores will host its 2nd annual Christmas craft and vendor fair on Friday\, December 02\, 2022\, from 4:00   6:00 pm. \n\nPlease accept our invitation to join us at this fun event. The goal of this event is to connect community artisans and vendors with our residents and members of the community.\n\nThis event will be an opportunity for you to introduce your services to the community and connect with them on an individual basis. We expect our residents\, their families\, and members of the community to attend this indoor event held in our beautiful community.\n\nThere is a $50(No electric) $60(with electricity) table rental fee\, and you are asked to furnish anything further that you may need to highlight your business\, we encourage you to also contribute and item/basket for a door prize drawing. We believe that as you partner with us\, this will encourage the residents and community to participate in this 2nd annual event.\n\nWe thank you for your consideration to partner with us for this fun and meaningful event.
X-ALT-DESC;FMTTYPE=text/html:<span style="font-size:14.0pt">Seagrass Village Gulf Shores will host its 2<sup>nd annual</sup> Christmas craft and vendor fair on Friday\, December 02\, 2022\, from 4:00 &ndash\; 6:00 pm. </span><br />\n<span style="font-size:14.0pt">Please accept our invitation to join us at this fun event. The goal of this event is to connect community artisans and vendors with our residents and members of the community.</span><br />\n<span style="font-size:14.0pt">This event will be an opportunity for you to introduce your services to the community and connect with them on an individual basis. We expect our residents\, their families\, and members of the community to attend this indoor event held in our beautiful community.</span><br />\n<span style="font-size:14.0pt">There is a $50(No electric) $60(with electricity) table rental fee\, and you are asked to furnish anything further that you may need to highlight your business\, we encourage you to also contribute and item/basket for a door prize drawing. We believe that as you partner with us\, this will encourage the residents and community to participate in this 2<sup>nd</sup> annual event.</span><br />\nWe thank you for your consideration to partner with us for this fun and meaningful event.
LOCATION:Seagrass Village of Gulf Shores 21298 Cotton Creek Drive Gulf Shores\, AL 36542
UID:e.2644.33550
SEQUENCE:3
DTSTAMP:20260425T191022Z
URL:https://business.perdidochamber.com/events/details/2022-2nd-annual-christmas-extravaganza-shopping-at-seagrass-village-of-gulf-shores-33550
END:VEVENT

END:VCALENDAR
