BEGIN:VCALENDAR
VERSION:2.0
PRODID:-//ChamberMaster//Event Calendar 2.0//EN
METHOD:PUBLISH
X-PUBLISHED-TTL:P3D
REFRESH-INTERVAL:P3D
CALSCALE:GREGORIAN
BEGIN:VEVENT
DTSTART:20221112T170000Z
DTEND:20221112T220000Z
X-MICROSOFT-CDO-ALLDAYEVENT:FALSE
SUMMARY:2022 Perdido Area Community Holiday Craft & Vendor Fair
DESCRIPTION:Perdido Area Community Holiday Craft & Vendor Fair \n\n\n\nThe Perdido Area Chamber is excited to host the 2nd annual Perdido Area Community Holiday Craft & Vendor Fair at Innerarity Point Park 5828 Cruzat Rd\, Pensacola\, FL 32507 on Saturday\, November 12\, 2022\n\n\n\nKick-off the holiday shopping season by browsing the wares at the Perdido Area Community Holiday Craft & Vendor Fair \n\n\n\nStarting at 11:00 am until 4:00 pm Guests are invited to wander through and explore locally sourced crafts and gifts to spark your holiday shopping spirit!
X-ALT-DESC;FMTTYPE=text/html:<p><span style="font-size:14px\;"><strong><span style="color:#333333\;"><span style="font-family:arial\,sans-serif\;">Perdido Area Community Holiday Craft &amp\; Vendor Fair&nbsp\;</span></span></strong><br />\n<br />\n<em><span style="color:#333333\;"><span style="font-family:arial\,sans-serif\;">The Perdido Area Chamber is excited to host the 2nd annual&nbsp\;Perdido Area Community Holiday Craft &amp\; Vendor Fair at Innerarity Point Park 5828&nbsp\;Cruzat Rd\, Pensacola\, FL 32507 on Saturday\, November 12\, 2022</span></span></em><br />\n<br />\n<span style="color:#333333\;"><span style="font-family:arial\,sans-serif\;">Kick-off the holiday shopping season&nbsp\;by browsing the wares at the&nbsp\;<strong><span style="font-family:arial\,sans-serif\;">Perdido Area Community Holiday Craft &amp\; Vendor Fair</span></strong>&nbsp\;<br />\n<br />\n<strong><span style="font-family:arial\,sans-serif\;">Starting at 11:00 am until 4:00 pm</span></strong> Guests are invited to wander through and explore locally sourced crafts and gifts&nbsp\;to spark your holiday shopping spirit!&nbsp\;&nbsp\;</span></span></span><br />\n<br />\n<br />\n&nbsp\;</p>\n
LOCATION:The Event is located at Innerarity Point Park 5828 Cruzat Rd\, Pensacola\, FL 32507
UID:e.2644.33380
SEQUENCE:3
DTSTAMP:20260425T174524Z
URL:https://business.perdidochamber.com/events/details/2022-perdido-area-community-holiday-craft-vendor-fair-33380
END:VEVENT

END:VCALENDAR
