BEGIN:VCALENDAR
VERSION:2.0
PRODID:-//ChamberMaster//Event Calendar 2.0//EN
METHOD:PUBLISH
X-PUBLISHED-TTL:P3D
REFRESH-INTERVAL:P3D
CALSCALE:GREGORIAN
BEGIN:VEVENT
DTSTART:20220809T160000Z
DTEND:20220809T163000Z
X-MICROSOFT-CDO-ALLDAYEVENT:FALSE
SUMMARY:2022 Ribbon Cutting: HouseMaster Serving Pensacola\, Milton\, Navarre\, Gulf Breeze
DESCRIPTION:Come to the Chamber office and join us in welcoming HouseMaster Pensacola to our Chamber community! \n\n\n\nFounded in 1979\, HouseMaster is the oldest and one of the largest home inspection companies in North America. For 40 years\, HouseMaster has built upon a foundation of solid leadership and innovation with a continued focus on delivering the highest quality service experience to their customers. The trusted team of HouseMaster Inspectors has collectively performed over 3.5 million inspections for prospective home buyers.
X-ALT-DESC;FMTTYPE=text/html:Come to the Chamber office and join us in welcoming HouseMaster Pensacola to our Chamber community!&nbsp\;<br />\n<br />\nFounded in 1979\, HouseMaster is the oldest and one of the largest home inspection companies in North America. For 40 years\, HouseMaster has built upon a foundation of solid leadership and innovation with a continued focus on delivering the highest quality service experience to their customers. The trusted team of HouseMaster Inspectors has collectively performed over 3.5 million inspections for prospective home buyers.<br />\n<br />\n<br />\n&nbsp\;
LOCATION:Perdido Key Area Chamber of Commerce 15500 Perdido Key Drive Pensacola\, FL 32507
UID:e.2644.33456
SEQUENCE:3
DTSTAMP:20260426T011041Z
URL:https://business.perdidochamber.com/events/details/2022-ribbon-cutting-housemaster-serving-pensacola-milton-navarre-gulf-breeze-33456
END:VEVENT

END:VCALENDAR
