BEGIN:VCALENDAR
VERSION:2.0
PRODID:-//ChamberMaster//Event Calendar 2.0//EN
METHOD:PUBLISH
X-PUBLISHED-TTL:P3D
REFRESH-INTERVAL:P3D
CALSCALE:GREGORIAN
BEGIN:VEVENT
DTSTART:20220819T160000Z
DTEND:20220819T163000Z
X-MICROSOFT-CDO-ALLDAYEVENT:FALSE
SUMMARY:2022 Sand Castle Enterprises Ribbon Cutting
DESCRIPTION:Perdido Key Area Chamber members are cordially invited to join us as we celebrate a ribbon cutting with a new member\, Sand Castle Enterprises LLC\, Association Management\n\n\n\n\n\nSandcastle Enterprises\, LLC offers\n\n	Community Association Management  \n	Real Estate Sales \n	Rental Management\n	Notary Public  \n	Concierge Services\n	Custom Contracts
X-ALT-DESC;FMTTYPE=text/html:Perdido Key Area Chamber members are cordially invited to join us as we celebrate a ribbon cutting with a new member\, Sand Castle Enterprises LLC\, Association Management<br />\n<br />\n<br />\nSandcastle Enterprises\, LLC offers\n<ul>\n	<li>Community Association Management&nbsp\;&nbsp\;</li>\n	<li>Real Estate Sales&nbsp\;</li>\n	<li>Rental Management</li>\n	<li>Notary Public&nbsp\;&nbsp\;</li>\n	<li>Concierge Services</li>\n	<li>Custom Contracts&nbsp\;</li>\n</ul>\n<br />\n&nbsp\;
LOCATION:13562 Perdido Key Drive Perdido Key\, FL 32507
UID:e.2644.33457
SEQUENCE:3
DTSTAMP:20260426T010851Z
URL:https://business.perdidochamber.com/events/details/2022-sand-castle-enterprises-ribbon-cutting-33457
END:VEVENT

END:VCALENDAR
