BEGIN:VCALENDAR
VERSION:2.0
PRODID:-//ChamberMaster//Event Calendar 2.0//EN
METHOD:PUBLISH
X-PUBLISHED-TTL:P3D
REFRESH-INTERVAL:P3D
CALSCALE:GREGORIAN
BEGIN:VEVENT
DTSTART:20220608T150000Z
DTEND:20220608T190000Z
X-MICROSOFT-CDO-ALLDAYEVENT:FALSE
SUMMARY:2022 World Ocean Day 2022
DESCRIPTION:Tuesday\, June 8\, 2022\, will be a day of environmentally focused games\, activities\, and art projects at the Perdido Key Area Chamber of Commerce and Visitor's Center.\n\n \n\nThe Chamber along with multiple partner agencies will be presenting information on protecting our beaches and marine habitat in conjunction with World Ocean Day.\n\n \n\nThe open house will feature presentations including a live feeding of the lionfish which are housed in the educational display tank at the Perdido Key Visitor's Center. Florida Fish and Wildlife Reef Rangers\, Niuhi Dive Charters and Ocean Strike Team will educate on lionfish removal efforts through spearfishing while scuba diving.\n\n \n\nThe Perdido and Pensacola Bays and Estuaries\, Friends of Pensacola State Parks\, The Perdido Key Association\, Gulf Islands National Seashore\, Clean Horizons\, ECUA and Friends of the Southwest Library\,  will share more information on protecting the environment geared to all ages.\n\n\n\nNational Wildlife Federation will have information on manatees to share.\n\n\n\nEscambia County Natural Resources Department will be unveiling the new native planting garden project as the next phase in the development of Preservation Park located at the Perdido Key Area Chamber of Commerce and Visitor's Information Center\n\n \n\nThe event will run from 10 am to 2 pm and is free to attend. The address of the Chamber of Commerce is 15500 Perdido Key Drive\, Perdido Key Florida.
X-ALT-DESC;FMTTYPE=text/html:Tuesday\, June 8\, 2022\, will be a day of environmentally focused games\, activities\, and art projects at the Perdido Key Area Chamber of Commerce and Visitor&#39\;s Center.<br />\n&nbsp\;<br />\nThe Chamber along with multiple partner agencies will be presenting information on protecting our beaches and marine habitat in conjunction with World Ocean Day.<br />\n&nbsp\;<br />\nThe open house will feature presentations including a live feeding of the lionfish which are housed in the educational display tank at the Perdido Key Visitor&#39\;s Center. Florida Fish and Wildlife Reef Rangers\, Niuhi Dive Charters and Ocean Strike Team will educate on lionfish removal efforts through spearfishing while scuba diving.<br />\n&nbsp\;<br />\nThe Perdido and Pensacola Bays and Estuaries\, Friends of Pensacola State Parks\, The Perdido Key Association\, Gulf Islands National Seashore\, Clean Horizons\, ECUA and Friends of the Southwest Library\,&nbsp\; will share more information on protecting the environment geared to all ages.<br />\n<br />\nNational Wildlife Federation will have information on manatees to share.<br />\n<br />\nEscambia County Natural Resources Department will be unveiling the new native planting garden project as the next phase in the development of Preservation Park located at the Perdido Key Area Chamber of Commerce and Visitor&#39\;s Information Center<br />\n&nbsp\;<br />\nThe event will run from 10 am to 2 pm and is free to attend. The address of the Chamber of Commerce is 15500 Perdido Key Drive\, Perdido Key Florida.
LOCATION:15500 Perdido Key Drive Perdido Key\, FL 32507
UID:e.2644.31582
SEQUENCE:3
DTSTAMP:20260420T095905Z
URL:https://business.perdidochamber.com/events/details/2022-world-ocean-day-2022-31582
END:VEVENT

END:VCALENDAR
