BEGIN:VCALENDAR
VERSION:2.0
PRODID:-//ChamberMaster//Event Calendar 2.0//EN
METHOD:PUBLISH
X-PUBLISHED-TTL:P3D
REFRESH-INTERVAL:P3D
CALSCALE:GREGORIAN
BEGIN:VEVENT
DTSTART:20230419T220000Z
DTEND:20230420T000000Z
X-MICROSOFT-CDO-ALLDAYEVENT:FALSE
SUMMARY:2023 ANNUAL LUAU! PKACC April Business After Hours
DESCRIPTION:New Location!\n\n\n\nBring your grass skirts and hula shirts to the Annual Perdido Key Luau at the BRAND NEW Deck Bar at Lillian's Pizza!\n\n\n\nApril's Business After Hours will be held on Wednesday\, April 19\, 2023 from 5 pm to 7 pm. Door prizes are always welcome\, so don't forget to bring plenty of business cards for a chance to win! Join us in checking out the new deck bar at Lillian's and relax during this laid back networking event. \n\n\n\nThis event is FREE for Members and only $5 for Non-Members!
X-ALT-DESC;FMTTYPE=text/html:<p bitstream="" font-size:="" line-height:="" new="" times=""><span style="font-size:14px\;"><em>New Location!</em></span><br />\n<br />\nBring your grass skirts and hula shirts to the Annual Perdido Key Luau at the <strong><u>BRAND&nbsp\;</u></strong><u><strong>NEW Deck Bar at Lillian&#39\;s Pizza!</strong></u><br />\n<br />\nApril&#39\;s Business After Hours&nbsp\;will be held on Wednesday\, April 19\, 2023&nbsp\;from 5 pm to 7 pm. Door prizes are always welcome\, so don&#39\;t forget to bring plenty of business cards for a chance to win! Join us in checking out the new deck bar at Lillian&#39\;s and relax during this laid back networking event.&nbsp\;<br />\n<br />\nThis event is FREE for Members and only $5 for Non-Members!</p>\n
LOCATION:Lillian's Pizza Deck 14514 Perdido Key Drive
UID:e.2644.33804
SEQUENCE:3
DTSTAMP:20260425T122500Z
URL:https://business.perdidochamber.com/events/details/2023-annual-luau-pkacc-april-business-after-hours-33804
END:VEVENT

END:VCALENDAR
