BEGIN:VCALENDAR
VERSION:2.0
PRODID:-//ChamberMaster//Event Calendar 2.0//EN
METHOD:PUBLISH
X-PUBLISHED-TTL:P3D
REFRESH-INTERVAL:P3D
CALSCALE:GREGORIAN
BEGIN:VEVENT
DTSTART:20230412T114500Z
DTEND:20230412T123000Z
X-MICROSOFT-CDO-ALLDAYEVENT:FALSE
SUMMARY:2023 Coffee With The Commissioner April 12 2023
DESCRIPTION:Join us in person or via FaceBook live for Coffee With District 1 Commissioner\, Jeff Bergosh at The Perdido Key Community Center 15500 Perdido Key Drive\, Perdido Key\, FL 32507\n\n\n\nBeginning at 7:00 (Doors open at 6:45) Meet Commissioner Bergosh and share your vision\, comments\, and concerns for the future of the Perdido Key Area.\n\nSpace is limited!
X-ALT-DESC;FMTTYPE=text/html:Join us in person or via FaceBook live for Coffee With District 1 Commissioner\, Jeff Bergosh at The Perdido Key Community Center 15500 Perdido Key Drive\, Perdido Key\, FL 32507<br />\n<br />\nBeginning at 7:00 (Doors open at 6:45) Meet Commissioner Bergosh and share your vision\, comments\, and concerns for the future of the Perdido Key Area.<br />\nSpace is limited!
LOCATION:15500 Perdido Key Drive Perdido Key\, FL 32507
UID:e.2644.33810
SEQUENCE:3
DTSTAMP:20260425T122328Z
URL:https://business.perdidochamber.com/events/details/2023-coffee-with-the-commissioner-april-12-2023-33810
END:VEVENT

END:VCALENDAR
