BEGIN:VCALENDAR
VERSION:2.0
PRODID:-//ChamberMaster//Event Calendar 2.0//EN
METHOD:PUBLISH
X-PUBLISHED-TTL:P3D
REFRESH-INTERVAL:P3D
CALSCALE:GREGORIAN
BEGIN:VEVENT
DTSTART:20230327T150000Z
DTEND:20230327T210000Z
X-MICROSOFT-CDO-ALLDAYEVENT:FALSE
SUMMARY:2023 High Heel Classic Golf Scramble
DESCRIPTION:Don't Worry Tee Happy\n\n\n\nIndulge in a day of fun when you gather together some Golf Divas to play in a foursome at the High Heel Classic Golf Scramble at Pensacola Country Club on March 27th.  Tee time - 10 AM\n\n\n\nThis is a fun tournament for all levels of play\, and even if you have never played\, the best ball format means all you need is at least one person on your team that can hit the ball. \n\n\n\nYou'll be able to show off your girl power by blinging out the golf cart with your fun decorations that show off your team spirit.  The best decorated golf cart will win a prize.\n\n\n\nTrophies for the Queens of the Green will be awarded.\n\nRegistration fee of $100 per golfer or $400 per foursome includes beverages\, lunch and a golf gift just for playing.   Solo golfers are welcome and will be placed on a team.\n\n\n\nThe fun will carry on throughout the event with games\, giveaways\, contest holes\, team pictures and even a trackman that will capture your swing and send you the video in case you decide if you want to continue playing golf as a hobby.\n\n\n\nThis tournament is produced by the Women Mean Business Committee of the Perdido Key Area Chamber of Commerce.  A portion of the proceeds will fund initiatives and charities that the committee supports.\n\nSponsorships are available.\n\n\n\nFor more information contact Tammy  850.492.4660 tammy@perdidochamber.com or visit our website at www.perdidochamber.com and click on the link in our event calendar.\n\n\n\n\n\n\n\nDownload sponsor and registration information here
X-ALT-DESC;FMTTYPE=text/html:Don&#39\;t Worry Tee Happy<br />\n<br />\nIndulge in a day of fun when you gather together some Golf Divas to play in a foursome at the High Heel Classic Golf Scramble at Pensacola Country Club on March 27th.&nbsp\; Tee time - 10 AM<br />\n<br />\nThis is a fun tournament for all levels of play\, and even if you have never played\, the best ball format means all you need is at least one person on your team that can hit the ball.&nbsp\;<br />\n<br />\nYou&#39\;ll be able to show off your girl power by blinging out the golf cart with your fun decorations that show off your team spirit.&nbsp\; The best decorated golf cart will win a prize.<br />\n<br />\nTrophies for the Queens of the Green will be awarded.<br />\nRegistration fee of $100 per golfer or $400 per foursome includes beverages\, lunch and a golf gift just for playing.&nbsp\; &nbsp\;Solo golfers are welcome and will be placed on a team.<br />\n<br />\nThe fun will carry on throughout the event with games\, giveaways\, contest holes\, team pictures and even a trackman that will capture your swing and send you the video in case you decide if you want to continue playing golf as a hobby.<br />\n<br />\nThis tournament is produced by the Women Mean Business Committee of the Perdido Key Area Chamber of Commerce.&nbsp\; A portion of the proceeds will fund initiatives and charities that the committee supports.<br />\nSponsorships are available.<br />\n<br />\nFor more information contact Tammy&nbsp\; 850.492.4660 tammy@perdidochamber.com or visit our website at www.perdidochamber.com and click on the link in our event calendar.<br />\n<br />\n<br />\n<br />\n<a href="https://chambermaster.blob.core.windows.net/userfiles/UserFiles/chambers/2644/File/FINALPKACC2023HIGHHEELCLASSICREGISTRATION1.pdf"><strong>Download sponsor and registration information here</strong></a>
LOCATION:Pensacola Country Club 1500 Bayshore Dr. Pensacola\, 32507
UID:e.2644.33458
SEQUENCE:3
DTSTAMP:20260423T234113Z
URL:https://business.perdidochamber.com/events/details/2023-high-heel-classic-golf-scramble-33458
END:VEVENT

END:VCALENDAR
