BEGIN:VCALENDAR
VERSION:2.0
PRODID:-//ChamberMaster//Event Calendar 2.0//EN
METHOD:PUBLISH
X-PUBLISHED-TTL:P3D
REFRESH-INTERVAL:P3D
CALSCALE:GREGORIAN
BEGIN:VEVENT
DTSTART:20231214T230000Z
DTEND:20231215T010000Z
X-MICROSOFT-CDO-ALLDAYEVENT:FALSE
SUMMARY:2023 Making Spirits Bright - Craft Cocktail Class
DESCRIPTION:The Perdido Key Area Chamber of Commerce's Women Mean Business Committee Presents - Making Spirits Bright\, Ladies Night Cocktail Class! \n\n\n\nUnleash your inner mixologist in our immersive 90-minute craft cocktail-making class with Tap the Coast and Legacy Oaks Event Venue. Join us for a hands-on experience where you'll learn the art of concocting two signature cocktails. Our expert mixologist will guide you through every step\, from selecting the finest ingredients to mastering the perfect shake. As a bonus\, you'll receive a curated set of premium barware to take home and cocktail recipe cards\, ensuring you can continue crafting exceptional cocktails for years to come. Cheers to a fun-filled and flavorful adventure!\n\n\n\nThis is a 21+ Ladies-only exclusive experience and makes for the perfect girls night. Seating is very limited so purchase your tickets now!\n\n\n\nA delicious grazing board by The Fancy Foodie and non-alcoholic refreshments will be available.
X-ALT-DESC;FMTTYPE=text/html:The Perdido Key Area Chamber of Commerce&#39\;s Women Mean Business Committee Presents - Making Spirits Bright\, Ladies Night Cocktail Class!&nbsp\;<br />\n<br />\nUnleash your inner mixologist in our immersive 90-minute craft cocktail-making class with Tap the Coast and Legacy Oaks Event Venue. Join us for a hands-on experience where you&#39\;ll learn the art of concocting two signature cocktails. Our expert mixologist will guide you through every step\, from selecting the finest ingredients to mastering the perfect shake. <strong>As a bonus\, you&#39\;ll receive a curated set of premium barware to take home and cocktail recipe cards</strong>\, ensuring you can continue crafting exceptional cocktails for years to come. Cheers to a fun-filled and flavorful adventure!<br />\n<br />\n<strong>This is a 21+ Ladies-only exclusive experience and makes for the perfect girls night. Seating is very limited so purchase your tickets now!</strong><br />\n<br />\nA delicious grazing board by The Fancy Foodie and non-alcoholic refreshments will be available.
LOCATION:Legacy Oaks Event Venue 27300 Schoen Road Elberta\, AL 36530
UID:e.2644.34247
SEQUENCE:3
DTSTAMP:20260424T235009Z
URL:https://business.perdidochamber.com/events/details/2023-making-spirits-bright-craft-cocktail-class-34247
END:VEVENT

END:VCALENDAR
