BEGIN:VCALENDAR
VERSION:2.0
PRODID:-//ChamberMaster//Event Calendar 2.0//EN
METHOD:PUBLISH
X-PUBLISHED-TTL:P3D
REFRESH-INTERVAL:P3D
CALSCALE:GREGORIAN
BEGIN:VEVENT
DTSTART:20230330T163000Z
DTEND:20230330T180000Z
X-MICROSOFT-CDO-ALLDAYEVENT:FALSE
SUMMARY:2023 March Networking Luncheon with the Perdido Area Chamber
DESCRIPTION:Join the Perdido Key Area Chamber of Commerce for a Networking Lunch.\n\n\n\nJoin us as a Chamber member or a prospective member to network with business professionals in the Perdido Key Area.  Make sure to bring plenty of business cards.  Each attendee will have an opportunity to introduce themselves and give a brief statement about their business. \n\n\n\nThis month's luncheon will be held at: \n\n\n\nStephi Cocktails & Cuisine \n\n25241 Perdido Beach Blvd Unit 101 \n\nOrange Beach\, AL 36561\n\n\n\nThe lunch is free to attend however each person will be responsible for the payment of their own meal. \n\n\n\nThis month's speaker will be from Hightower Industries\, LLC. \n\n\n\nPlease RSVP using the "Register " button so that our host venue can prepare accordingly
X-ALT-DESC;FMTTYPE=text/html:Join the Perdido Key Area Chamber of Commerce for a Networking Lunch.<br />\n<br />\nJoin us as a Chamber member or a prospective member to network with business professionals in the Perdido Key Area.&nbsp\; Make sure to bring plenty of business cards.&nbsp\; Each attendee will have an opportunity to introduce themselves and give a brief statement about their business.&nbsp\;<br />\n<br />\n<strong>This month&#39\;s luncheon will be held at:&nbsp\;<br />\n<br />\n<span style="font-size:16px\;">Stephi Cocktails &amp\; Cuisine&nbsp\;<br />\n25241 Perdido Beach Blvd Unit 101&nbsp\;<br />\nOrange Beach\, AL 36561</span></strong><br />\n<br />\nThe lunch is free to attend however each person will be responsible for the payment of their own meal.&nbsp\;<br />\n<br />\n<u>This month&#39\;s speaker will be from Hightower Industries\, LLC.&nbsp\;</u><br />\n<br />\n<span style="color:#FF0000\;"><u><strong>Please RSVP using the &quot\;Register &quot\; button so that our host venue can prepare accordingly</strong></u></span>
LOCATION:Stephi Cocktails & Cuisine 25241 Perdido Beach Blvd Unit 101 Orange Beach\, AL 36561
UID:e.2644.33778
SEQUENCE:3
DTSTAMP:20260425T140231Z
URL:https://business.perdidochamber.com/events/details/2023-march-networking-luncheon-with-the-perdido-area-chamber-33778
END:VEVENT

END:VCALENDAR
