BEGIN:VCALENDAR
VERSION:2.0
PRODID:-//ChamberMaster//Event Calendar 2.0//EN
METHOD:PUBLISH
X-PUBLISHED-TTL:P3D
REFRESH-INTERVAL:P3D
CALSCALE:GREGORIAN
BEGIN:VEVENT
DTSTART:20230427T163000Z
DTEND:20230427T180000Z
X-MICROSOFT-CDO-ALLDAYEVENT:FALSE
SUMMARY:2023 Networking Luncheon with the Perdido Area Chamber April
DESCRIPTION:Join the Perdido Key Area Chamber of Commerce for a Networking Lunch.\n\n\n\nJoin us as a Chamber member or a prospective member to network with business professionals in the Perdido Key Area.  Make sure to bring plenty of business cards.  Each attendee will have an opportunity to introduce themselves and give a brief statement about their business. \n\n\n\nThis month's luncheon will be held at: \n\n\n\nShrimp Basket Perdido Key \n\n14600 Perdido Key Drive\n\nPerdido Key\, FL 32507\n\n\n\n\n\nThe lunch is free to attend however each person will be responsible for the payment of their own meal. \n\n\n\n\n\nPlease RSVP using the "Register " button so that our host venue can prepare accordingly
X-ALT-DESC;FMTTYPE=text/html:Join the Perdido Key Area Chamber of Commerce for a Networking Lunch.<br />\n<br />\nJoin us as a Chamber member or a prospective member to network with business professionals in the Perdido Key Area.&nbsp\; Make sure to bring plenty of business cards.&nbsp\; Each attendee will have an opportunity to introduce themselves and give a brief statement about their business.&nbsp\;<br />\n<br />\n<strong>This month&#39\;s luncheon will be held at:&nbsp\;<br />\n<br />\n<span style="font-size:16px\;">Shrimp Basket Perdido Key&nbsp\;<br />\n14600 Perdido Key Drive<br />\nPerdido Key\, FL 32507</span></strong><br />\n<br />\n<br />\nThe lunch is free to attend however each person will be responsible for the payment of their own meal.&nbsp\;<br />\n<br />\n<br />\n<span style="color:#FF0000\;"><u><strong>Please RSVP using the &quot\;Register &quot\; button so that our host venue can prepare accordingly</strong></u></span>
LOCATION:Shrimp Basket Perdido Key 14600 Perdido Key Drive Perdido Key\, FL 32507
UID:e.2644.33811
SEQUENCE:3
DTSTAMP:20260425T122334Z
URL:https://business.perdidochamber.com/events/details/2023-networking-luncheon-with-the-perdido-area-chamber-april-33811
END:VEVENT

END:VCALENDAR
