BEGIN:VCALENDAR
VERSION:2.0
PRODID:-//ChamberMaster//Event Calendar 2.0//EN
METHOD:PUBLISH
X-PUBLISHED-TTL:P3D
REFRESH-INTERVAL:P3D
CALSCALE:GREGORIAN
BEGIN:VEVENT
DTSTART:20231103T123000Z
DTEND:20231103T140000Z
X-MICROSOFT-CDO-ALLDAYEVENT:FALSE
SUMMARY:2023 NOV Breakfast Brief - November 2023
DESCRIPTION:The Perdido Key Area Chamber of Commerce Breakfast Brief is held on the first Friday of each month and brings the community together to learn about and discuss important issues and updates that affect local residents and businesses.  \n\n\n\nEach month a community leader will speak on a topic relevant to life in and near Perdido Key.  \n\n\n\nThis month's speaker is Andy Haynes\, Frank Brown International Songwriters Foundation. \n\n \nThe Frank Brown International Songwriter's Festival is truly a labor of love for the founders and organizers. Our love of live music and talented writers is what makes the festival come alive. There are so many outstanding songwriters in our country and this event allows they and their songs to be showcased.\n\nThe long history of this event is testament to the award winning talent that visits each year. Come join us in celebrating their music.\n\n \n\nTHE MISSION OF THE FRANK BROWN INTERNATIONAL FOUNDATION FOR MUSIC AND SONGWRITERS' FESTIVAL  501c3 ORGANIZATION\n \n\nTo reach into schools and enrich the lives of our youth and encourage creativity through music.\n\nTo strengthen our community and business by increasing tourism in the Gulf Coast Region.\n\nTo bring the authors of original music out of the shadows and into the spotlight.\n\nTo make the world a better place by bringing people together with the universal language of music.
X-ALT-DESC;FMTTYPE=text/html:<span style="font-size:18px\;"><span style="font-family:arial\;">The Perdido Key Area Chamber of Commerce Breakfast Brief is held on the first Friday of each month and brings the community together to learn about and discuss important issues and updates that affect local residents and businesses.&nbsp\;&nbsp\;<br />\n<br />\nEach month a community leader will speak on a topic relevant to life in and near Perdido Key.&nbsp\;&nbsp\;<br />\n<br />\n<strong>This month&#39\;s speaker is Andy Haynes\, Frank Brown International Songwriters Foundation.&nbsp\;</strong></span></span><br />\n&nbsp\;\n<p class="rteBlock" style="box-sizing: border-box\; border: 0px solid rgb(51\, 51\, 51)\; -webkit-font-smoothing: antialiased\; margin: 0px\; -webkit-tap-highlight-color: transparent\; background-color: rgb(255\, 255\, 255)\;"><span style="font-size:18px\;"><span style="font-family:arial\;">The Frank Brown International Songwriter&#39\;s Festival is truly a labor of love for the founders and organizers. Our love of live music and talented writers is what makes the festival come alive. There are so many outstanding songwriters in our country and this event allows they and their songs to be showcased.</span></span></p>\n\n<p class="rteBlock" style="box-sizing: border-box\; border: 0px solid rgb(51\, 51\, 51)\; -webkit-font-smoothing: antialiased\; margin: 0px\; -webkit-tap-highlight-color: transparent\; background-color: rgb(255\, 255\, 255)\;"><span style="font-size:18px\;"><span style="font-family:arial\;">The long history of this event is testament to the award winning talent that visits each year. Come join us in celebrating their music.</span></span></p>\n\n<p class="rteBlock" style="box-sizing: border-box\; border: 0px solid rgb(51\, 51\, 51)\; -webkit-font-smoothing: antialiased\; margin: 0px\; -webkit-tap-highlight-color: transparent\; font-weight: 700\; font-family: Poppins\; font-size: 16px\; background-color: rgb(255\, 255\, 255)\;">&nbsp\;</p>\n\n<p class="rteBlock" style="box-sizing: border-box\; border: 0px solid rgb(51\, 51\, 51)\; -webkit-font-smoothing: antialiased\; margin: 0px\; -webkit-tap-highlight-color: transparent\; font-weight: 700\; font-family: Poppins\; font-size: 16px\; background-color: rgb(255\, 255\, 255)\;"><span style="font-size:18px\;"><span style="font-family:arial\;"><span style="box-sizing: border-box\; border: 0px solid rgb(51\, 51\, 51)\; -webkit-font-smoothing: antialiased\; -webkit-tap-highlight-color: transparent\;">THE MISSION OF THE FRANK BROWN INTERNATIONAL FOUNDATION FOR MUSIC AND SONGWRITERS&#39\; FESTIVAL&nbsp\;</span>&nbsp\;501c3 ORGANIZATION</span></span></p>\n&nbsp\;\n\n<p class="rteBlock" style="box-sizing: border-box\; border: 0px solid rgb(51\, 51\, 51)\; -webkit-font-smoothing: antialiased\; margin: 0px\; -webkit-tap-highlight-color: transparent\; font-weight: 700\; font-family: Poppins\; font-size: 16px\; background-color: rgb(255\, 255\, 255)\;"><span style="font-size:18px\;"><span style="font-family:arial\;"><span style="box-sizing: border-box\; border: 0px solid rgb(51\, 51\, 51)\; -webkit-font-smoothing: antialiased\; -webkit-tap-highlight-color: transparent\;">To reach into schools and enrich the lives of our youth and encourage creativity through music.</span></span></span></p>\n\n<p class="rteBlock" style="box-sizing: border-box\; border: 0px solid rgb(51\, 51\, 51)\; -webkit-font-smoothing: antialiased\; margin: 0px\; -webkit-tap-highlight-color: transparent\; font-weight: 700\; font-family: Poppins\; font-size: 16px\; background-color: rgb(255\, 255\, 255)\;"><span style="font-size:18px\;"><span style="font-family:arial\;"><span style="box-sizing: border-box\; border: 0px solid rgb(51\, 51\, 51)\; -webkit-font-smoothing: antialiased\; -webkit-tap-highlight-color: transparent\;">To strengthen our community and business by increasing tourism in the Gulf Coast Region.</span></span></span></p>\n\n<p class="rteBlock" style="box-sizing: border-box\; border: 0px solid rgb(51\, 51\, 51)\; -webkit-font-smoothing: antialiased\; margin: 0px\; -webkit-tap-highlight-color: transparent\; font-weight: 700\; font-family: Poppins\; font-size: 16px\; background-color: rgb(255\, 255\, 255)\;"><span style="font-size:18px\;"><span style="font-family:arial\;"><span style="box-sizing: border-box\; border: 0px solid rgb(51\, 51\, 51)\; -webkit-font-smoothing: antialiased\; -webkit-tap-highlight-color: transparent\;">To bring the authors of original music out of&nbsp\;</span>the shadows and into the spotlight.</span></span></p>\n\n<p class="rteBlock" style="box-sizing: border-box\; border: 0px solid rgb(51\, 51\, 51)\; -webkit-font-smoothing: antialiased\; margin: 0px\; -webkit-tap-highlight-color: transparent\; font-weight: 700\; font-family: Poppins\; font-size: 16px\; background-color: rgb(255\, 255\, 255)\;"><span style="font-size:18px\;"><span style="font-family:arial\;"><span style="box-sizing: border-box\; border: 0px solid rgb(51\, 51\, 51)\; -webkit-font-smoothing: antialiased\; -webkit-tap-highlight-color: transparent\;">To make the world a better place by bringing people together with the universal language of music.</span></span></span></p>\n
LOCATION:Hub Stacey's at the Point 5851 Galvez Road Pensacola\, FL 32507
UID:e.2644.25770
SEQUENCE:3
DTSTAMP:20260424T235858Z
URL:https://business.perdidochamber.com/events/details/2023-nov-breakfast-brief-november-2023-25770
END:VEVENT

END:VCALENDAR
