BEGIN:VCALENDAR
VERSION:2.0
PRODID:-//ChamberMaster//Event Calendar 2.0//EN
METHOD:PUBLISH
X-PUBLISHED-TTL:P3D
REFRESH-INTERVAL:P3D
CALSCALE:GREGORIAN
BEGIN:VEVENT
DTSTART:20230221T150000Z
DTEND:20230221T210000Z
X-MICROSOFT-CDO-ALLDAYEVENT:FALSE
SUMMARY:2023 "Party Like a Kid Day" at the Alabama Gulf Coast Zoo
DESCRIPTION:Fat Tuesday - "Party Like a Kid Day" at the Alabama Gulf Coast Zoo\n\nTuesday\, February 21\, 9 am - 3 pm\n\nIn the spirit of Mardi Gras revelry\, bring your krewe to the zoo on Fat Tuesday.\n\n\n\nAll admissions kid's price of $14.95 + tax all day for everyone.
X-ALT-DESC;FMTTYPE=text/html:<p>Fat Tuesday - &quot\;Party Like a Kid Day&quot\; at the Alabama Gulf Coast Zoo</p>\n\n<p>Tuesday\, February 21\, 9 am - 3 pm</p>\n\n<p>In the spirit of Mardi Gras revelry\, bring your krewe to the zoo on Fat Tuesday.<br />\n<br />\nAll admissions kid&#39\;s price of $14.95 + tax all day for everyone.&nbsp\;</p>\n
LOCATION:Alabama Gulf Coast Zoo 20499 Oak Road East Gulf Shores\, AL 36542
UID:e.2644.33773
SEQUENCE:3
DTSTAMP:20260425T154844Z
URL:https://business.perdidochamber.com/events/details/2023-party-like-a-kid-day-at-the-alabama-gulf-coast-zoo-33773
END:VEVENT

END:VCALENDAR
