BEGIN:VCALENDAR
VERSION:2.0
PRODID:-//ChamberMaster//Event Calendar 2.0//EN
METHOD:PUBLISH
X-PUBLISHED-TTL:P3D
REFRESH-INTERVAL:P3D
CALSCALE:GREGORIAN
BEGIN:VEVENT
DTSTART:20231111T170000Z
DTEND:20231111T220000Z
X-MICROSOFT-CDO-ALLDAYEVENT:FALSE
SUMMARY:2023 Perdido Area Community Holiday Craft and Vendor Fair 2023
DESCRIPTION:Perdido Area Community Holiday Craft & Vendor Fair \n\n\n\nThe Perdido Area Chamber is excited to host the annual Perdido Area Community Holiday Craft & Vendor Fair at Innerarity Point Park 5828 Cruzat Rd\, Pensacola\, FL 32507 on Saturday\, November 11\, 2023\n\n\n\nKick-off the holiday shopping season by browsing the wares at the Perdido Area Community Holiday Craft & Vendor Fair \n\n\n\nStarting at 11:00 am until 4:00 pm Guests are invited to wander through and explore locally sourced crafts and gifts to spark your holiday shopping spirit!  \n\n\n\nWe do our best to make sure that we do not duplicate booths/items for sale.  First come\, first serve.\n\n\n\nView Vendor Application Here
X-ALT-DESC;FMTTYPE=text/html:<p><span style="font-size:14px\;"><strong><span style="color:#333333\;"><span style="font-family:arial\,sans-serif\;">Perdido Area Community Holiday Craft &amp\; Vendor Fair&nbsp\;</span></span></strong><br />\n<br />\n<em><span style="color:#333333\;"><span style="font-family:arial\,sans-serif\;">The Perdido Area Chamber is excited to host the annual&nbsp\;Perdido Area Community Holiday Craft &amp\; Vendor Fair at Innerarity Point Park 5828&nbsp\;Cruzat Rd\, Pensacola\, FL 32507 on Saturday\, November 11\, 2023</span></span></em><br />\n<br />\n<span style="color:#333333\;"><span style="font-family:arial\,sans-serif\;">Kick-off the holiday shopping season&nbsp\;by browsing the wares at the&nbsp\;<strong><span style="font-family:arial\,sans-serif\;">Perdido Area Community Holiday Craft &amp\; Vendor Fair</span></strong>&nbsp\;<br />\n<br />\n<strong><span style="font-family:arial\,sans-serif\;">Starting at 11:00 am until 4:00 pm</span></strong> Guests are invited to wander through and explore locally sourced crafts and gifts&nbsp\;to spark your holiday shopping spirit!&nbsp\;&nbsp\;<br />\n<br />\nWe do our best to make sure that we do not duplicate booths/items for sale.&nbsp\; First come\, first serve.</span></span></span><br />\n<br />\n<u><em><strong><a href="https://chambermaster.blob.core.windows.net/userfiles/UserFiles/chambers/2644/File/CraftFairVendorAgreement1.pdf">View Vendor Application Here</a></strong></em></u></p>\n
LOCATION:The Event is located at Innerarity Point Park 5828 Cruzat Rd\, Pensacola\, FL 32507
UID:e.2644.34187
SEQUENCE:3
DTSTAMP:20260425T021812Z
URL:https://business.perdidochamber.com/events/details/2023-perdido-area-community-holiday-craft-and-vendor-fair-2023-34187
END:VEVENT

END:VCALENDAR
