BEGIN:VCALENDAR
VERSION:2.0
PRODID:-//ChamberMaster//Event Calendar 2.0//EN
METHOD:PUBLISH
X-PUBLISHED-TTL:P3D
REFRESH-INTERVAL:P3D
CALSCALE:GREGORIAN
BEGIN:VEVENT
DTSTART:20230513T160000Z
DTEND:20230513T210000Z
X-MICROSOFT-CDO-ALLDAYEVENT:FALSE
SUMMARY:2023 Perdido Area Community Spring Craft & Vendor Fair 2023
DESCRIPTION:The Perdido Key Area Chamber of Commerce is excited to announce that we have rescheduled the Perdido Area Community Spring Craft & Vendor Fair at Innerarity Point Park 5828 Cruzat Rd\, Pensacola\, FL 32507 for Saturday\, May 13th\, 2023\n\n\n\nSwing into spring as you wander through and explore locally sourced crafts and gifts guaranteed to shake off those winter blues!  Don't forget Mother's Day is just around the corner.
X-ALT-DESC;FMTTYPE=text/html:<p><br />\nThe Perdido Key Area Chamber of Commerce is excited to announce that we have rescheduled the Perdido Area Community Spring Craft &amp\; Vendor Fair at Innerarity Point Park 5828 Cruzat Rd\, Pensacola\, FL 32507 for&nbsp\;Saturday\, May 13th\, 2023<br />\n<br />\nSwing into spring as you wander through and explore locally sourced crafts and gifts guaranteed to shake off those winter blues!&nbsp\; Don&#39\;t forget Mother&#39\;s Day is just around the corner.</p>\n
LOCATION:The Event is located at Innerarity Point Park 5828 Cruzat Rd\, Pensacola\, FL 32507
UID:e.2644.33763
SEQUENCE:3
DTSTAMP:20260425T122156Z
URL:https://business.perdidochamber.com/events/details/2023-perdido-area-community-spring-craft-vendor-fair-2023-33763
END:VEVENT

END:VCALENDAR
