BEGIN:VCALENDAR
VERSION:2.0
PRODID:-//ChamberMaster//Event Calendar 2.0//EN
METHOD:PUBLISH
X-PUBLISHED-TTL:P3D
REFRESH-INTERVAL:P3D
CALSCALE:GREGORIAN
BEGIN:VEVENT
DTSTART:20231031T163000Z
DTEND:20231031T173000Z
X-MICROSOFT-CDO-ALLDAYEVENT:FALSE
SUMMARY:2023 Perdido Key Area Chamber Brown Bag Lunch Series - October 2023
DESCRIPTION:Pack a lunch and join Chamber members and staff for a FREE training for Chamber Members\, $5 for Non-Members. Each month will feature a different seminar designed to help your business be more successful!\n\n\n\nThis Month's Topic - ADA Digital Accessibility Workshop: Mastering Alt Text for Web & Social Media\n\n\n\nPresented by: Carolyn Grawi\, Executive Director\, Center for Independent Living of NWF & Jay Massey\, Hixardt Technologies\, CMO\, Coco Designs\, Founding Partner\n\n\n\nThis months Brown Bag Lunch Series is designed to empower individuals and organizations with the knowledge and skills needed to ensure ADA (Americans with Disabilities Act) compliance for their websites and social media platforms. In this informative series\, participants will gain a comprehensive understanding of ADA guidelines and how they apply to digital content. The focus of the class is on making online content accessible to individuals with disabilities\, including those with visual impairments. One of the key topics covered is the importance of adding alternative text (alt text) to images\, a critical step in making visual content accessible to screen readers and other assistive technologies.
X-ALT-DESC;FMTTYPE=text/html:<div style="text-align: center\;"><span style="font-family:arial\;"><span style="font-size:16px\;">Pack a lunch and join Chamber members and staff for a FREE training for Chamber Members\, $5 for Non-Members. Each month will feature a different seminar designed to help your business be more successful!</span></span></div>\n\n<div style="text-align: center\;"><br />\n<span style="font-family:arial\;"><span style="font-size:16px\;">This Month&#39\;s Topic -<strong> </strong><strong>ADA Digital Accessibility Workshop: Mastering Alt Text for Web &amp\; Social Media</strong></span></span><br />\n<br />\n<span style="font-family:arial\;"><span style="font-size:16px\;">Presented by:<strong>&nbsp\;Carolyn Grawi\, </strong>Executive Director\, Center for Independent Living of NWF<strong> &amp\; Jay Massey\, </strong>Hixardt Technologies\, CMO\, Coco Designs\, Founding Partner</span></span><br />\n<br />\n<span style="font-size:16px\;"><span style="font-family:arial\;">This months Brown Bag Lunch Series is designed to empower individuals and organizations with the knowledge and skills needed to ensure ADA (Americans with Disabilities Act) compliance for their websites and social media platforms.&nbsp\;In this informative series\, participants will gain a comprehensive understanding of ADA guidelines and how they apply to digital content. The focus of the class is on making online content accessible to individuals with disabilities\, including those with visual impairments. One of the key topics covered is the importance of adding alternative text (alt text) to images\, a critical step in making visual content accessible to screen readers and other assistive technologies.</span></span></div>\n
LOCATION:Perdido Key Area Chamber of Commerce Conference Room 15500 Perdido Key Drive Perdido Key\, FL 32507
UID:e.2644.34508
SEQUENCE:3
DTSTAMP:20260425T020117Z
URL:https://business.perdidochamber.com/events/details/2023-perdido-key-area-chamber-brown-bag-lunch-series-october-2023-34508
END:VEVENT

END:VCALENDAR
