BEGIN:VCALENDAR
VERSION:2.0
PRODID:-//ChamberMaster//Event Calendar 2.0//EN
METHOD:PUBLISH
X-PUBLISHED-TTL:P3D
REFRESH-INTERVAL:P3D
CALSCALE:GREGORIAN
BEGIN:VEVENT
DTSTART:20231106T160000Z
DTEND:20231106T220000Z
X-MICROSOFT-CDO-ALLDAYEVENT:FALSE
SUMMARY:2023 Red\, White\, and Birdies Golf Scramble
DESCRIPTION:The 2023 Red\, White\, and Birdies Golf Scramble is a major fundraising event for support of our military programs and initiatives through the Perdido Key Area Chamber Foundation.\n\n\n\nJoin the Perdido Key Area Chamber of Commerce at A.C. Read Golf Course on November 6th at 10:00AM for our Annual Red\, White\, and Birdies Golf Scramble. \n\n\n\nINDIVIDUALS\n\nCivilian Golfer - $100               \n\nMilitary Golfer with I.D. - $75\n\nTEAMS\n\nCivilian Team $400                   \n\nMilitary Team with I.D. - $300\n\n\n\nClick here to download the sponsor and golfer registration form
X-ALT-DESC;FMTTYPE=text/html:The 2023 Red\, White\, and Birdies Golf Scramble is a major fundraising event for support of our military programs and initiatives through the Perdido Key Area Chamber Foundation.<br />\n<br />\nJoin the Perdido Key Area Chamber of Commerce at A.C. Read Golf Course on November 6th at 10:00AM for our Annual Red\, White\, and Birdies Golf Scramble.&nbsp\;<br />\n<br />\n<strong>INDIVIDUALS</strong><br />\nCivilian Golfer - $100&nbsp\;&nbsp\;&nbsp\;&nbsp\;&nbsp\;&nbsp\;&nbsp\;&nbsp\;&nbsp\;&nbsp\;&nbsp\;&nbsp\;&nbsp\; &nbsp\;<br />\nMilitary Golfer with I.D. - $75<br />\n<strong>TEAMS</strong><br />\nCivilian Team $400&nbsp\;&nbsp\;&nbsp\;&nbsp\;&nbsp\;&nbsp\;&nbsp\;&nbsp\;&nbsp\;&nbsp\;&nbsp\;&nbsp\;&nbsp\;&nbsp\;&nbsp\;&nbsp\;&nbsp\; &nbsp\;<br />\nMilitary Team with I.D. - $300<br />\n<br />\n<a href="https://chambermaster.blob.core.windows.net/userfiles/UserFiles/chambers/2644/File/RWB2023SPONSORINFOFULLFORM.pdf"><strong><em><u>Click here to&nbsp\;download the sponsor and golfer registration form </u></em></strong></a>
LOCATION:A.C. Read Golf Course NAS Pensacola 799-1313 Duncan Road Pensacola\, FL 32508
UID:e.2644.34200
SEQUENCE:3
DTSTAMP:20260424T235801Z
URL:https://business.perdidochamber.com/events/details/2023-red-white-and-birdies-golf-scramble-34200
END:VEVENT

END:VCALENDAR
