BEGIN:VCALENDAR
VERSION:2.0
PRODID:-//ChamberMaster//Event Calendar 2.0//EN
METHOD:PUBLISH
X-PUBLISHED-TTL:P3D
REFRESH-INTERVAL:P3D
CALSCALE:GREGORIAN
BEGIN:VEVENT
DTSTART:20231019T153000Z
DTEND:20231019T160000Z
X-MICROSOFT-CDO-ALLDAYEVENT:FALSE
SUMMARY:2023 Ribbon Cutting - Centre for Excellence of Pensacola
DESCRIPTION:Join the Perdido Key Area Chamber of Commerce as we celebrate the Ribbon Cutting Celebration for The Centre for Excellence during their Holes Fore Hope Charity Golf Tournament!\n\n\n\nThe Ribbon Cutting will take place at Lost Key Golf Course on October 19th at 10:30 AM.\n\n\n\nFor More About Centre for Excellence\, Visit Their Website: https://centre4excellence.org/
X-ALT-DESC;FMTTYPE=text/html:<span style="font-size:16px\;"><span style="font-family:arial\;">Join the Perdido Key Area Chamber of Commerce as we celebrate the Ribbon Cutting Celebration for The Centre for Excellence during their Holes Fore Hope Charity Golf Tournament!<br />\n<br />\nThe Ribbon Cutting will take place at Lost Key Golf Course on October 19th at 10:30 AM.</span></span><br />\n<br />\n<span style="font-size:16px\;"><span style="font-family:arial\;">For More About Centre for Excellence\, Visit Their Website: <a href="https://centre4excellence.org/">https://centre4excellence.org/</a></span></span><br />\n&nbsp\;
LOCATION:Lost Key Golf Club 625 Lost Key Drive\, Pensacola FL\, 32507 NOTE: Utilize the gate located off of beach road 292.
UID:e.2644.34806
SEQUENCE:3
DTSTAMP:20260425T034618Z
URL:https://business.perdidochamber.com/events/details/2023-ribbon-cutting-centre-for-excellence-of-pensacola-34806
END:VEVENT

END:VCALENDAR
