BEGIN:VCALENDAR
VERSION:2.0
PRODID:-//ChamberMaster//Event Calendar 2.0//EN
METHOD:PUBLISH
X-PUBLISHED-TTL:P3D
REFRESH-INTERVAL:P3D
CALSCALE:GREGORIAN
BEGIN:VEVENT
DTSTART:20230519T210000Z
DTEND:20230519T220000Z
X-MICROSOFT-CDO-ALLDAYEVENT:FALSE
SUMMARY:2023 Ribbon Cutting & Grand Re-Opening - Lands End Condominium
DESCRIPTION:Join the Perdido Key Area Chamber of Commerce and the Board of Directors of Lands End of Perdido Key Condominium Association Incorporated for a Grand Re-Opening & Ribbon Cutting Celebration!\n\n\n\nEnjoy refreshments poolside and take a tour of the building and open units with Lands End of Perdido Key Condominium Association\, Inc.\n\n\n\nOn September 16\, 2020\, around 5 a.m.\, Hurricane Sally made its slow and painful arrival at Perdido Key and with its relentless\, steady Cat-2 windspeed for hour-upon-hour\, landed a devastating blow on Lands End\, at the end of Johnson Beach Road\, causing a complete facility review\, re-engineering\, and rehabilitation of the interior and exterior of the building\, including all concrete and structural integrity elements. After two (2) plus years of construction and engineering\, and over $25M spent\, Lands End has returned fully renewed and resplendent with its stunning\, unique condo architectural flair and its low-density\, owner-family-centric personality. The "Grand Re-Opening" appropriately serves as a necessary celebration lauding the resilient and patient owner community and our amazing partners in recovery - general contractor C-Sharpe\; engineering firm Delta Engineering\; public adjuster Strategic Claims Consultants\; and law firm Moore\, Hill\, and Westmoreland.
X-ALT-DESC;FMTTYPE=text/html:Join the Perdido Key Area Chamber of Commerce and the Board of Directors of Lands End of Perdido Key Condominium Association Incorporated for a Grand Re-Opening &amp\; Ribbon Cutting Celebration!<br />\n<br />\nEnjoy refreshments poolside and take a tour of the building and open units with&nbsp\;Lands End of Perdido Key Condominium Association\, Inc.<br />\n<br />\nOn September 16\, 2020\, around 5 a.m.\, Hurricane Sally made its slow and painful arrival at Perdido&nbsp\;Key and with its relentless\, steady Cat-2 windspeed for hour-upon-hour\, landed a devastating blow on Lands End\, at the end of Johnson Beach Road\, causing a complete facility review\, re-engineering\, and rehabilitation of the interior and exterior of the building\, including all concrete and structural integrity elements. After two (2) plus years of construction and engineering\, and over $25M spent\, Lands End has returned fully renewed and resplendent with its stunning\, unique condo architectural flair and its low-density\, owner-family-centric personality. The &ldquo\;Grand Re-Opening&rdquo\; appropriately serves as a necessary celebration lauding the resilient and patient owner community and our amazing partners in recovery - general contractor C-Sharpe\; engineering firm Delta Engineering\; public adjuster Strategic Claims Consultants\; and law firm Moore\, Hill\, and Westmoreland.<br />\n&nbsp\;
LOCATION:Lands End of Perdido Key Condominium Association\, Inc. 13335 Johnson Beach Road Pensacola\, FL 32507
UID:e.2644.34051
SEQUENCE:3
DTSTAMP:20260425T111435Z
URL:https://business.perdidochamber.com/events/details/2023-ribbon-cutting-grand-re-opening-lands-end-condominium-34051
END:VEVENT

END:VCALENDAR
