BEGIN:VCALENDAR
VERSION:2.0
PRODID:-//ChamberMaster//Event Calendar 2.0//EN
METHOD:PUBLISH
X-PUBLISHED-TTL:P3D
REFRESH-INTERVAL:P3D
CALSCALE:GREGORIAN
BEGIN:VEVENT
DTSTART:20231021T174500Z
DTEND:20231021T180000Z
X-MICROSOFT-CDO-ALLDAYEVENT:FALSE
SUMMARY:2023 Ribbon Cutting - Gulf Coast Musicians Medical Fund
DESCRIPTION:Join the Perdido Key Area Chamber of Commerce as we celebrate the Gulf Coast Musicians Medical Fund with a Ribbon Cutting Ceremony. The Ribbon Cutting will take place during their 6th Annual Gulf Coast Musicians Medical Fund Fundraiser at the Point Restaurant on Saturday\, October 21st at 12:45PM. \n\n\n\nFind Tickets to the Event Here: https://gcmmf.org/events/\n\n\n\nGulf Coast Musicians Medical Fund is a 501(c)3 nonprofit charity started in 2018 that provides financial assistance for medical care to Gulf Coast musicians & songwriters in Alabama\, Florida\, Mississippi\, and Louisiana at no cost. For more information\, please visit GCMMF.ORG.
X-ALT-DESC;FMTTYPE=text/html:<span style="font-size:16px\;">Join the Perdido Key Area Chamber of Commerce as we celebrate the Gulf Coast Musicians Medical Fund with a Ribbon Cutting Ceremony. The Ribbon Cutting will take place during their 6th Annual Gulf Coast Musicians Medical Fund Fundraiser at the Point Restaurant on Saturday\, October 21st at 12:45PM.&nbsp\;</span><br />\n<br />\n<span style="font-size:16px\;">Find Tickets to the Event Here: <a href="https://gcmmf.org/events/">https://gcmmf.org/events/</a></span><br />\n<br />\n<span style="font-size:16px\;">Gulf Coast Musicians Medical Fund is a 501(c)3 nonprofit charity started in 2018 that provides financial assistance for medical care to Gulf Coast musicians &amp\; songwriters in Alabama\, Florida\, Mississippi\, and Louisiana at no cost. For more information\, please visit GCMMF.ORG.&nbsp\;</span><br />\n&nbsp\;
LOCATION:The Point Restaurant 14340 Innerarity Point Rd\, Pensacola\, FL 32507
UID:e.2644.34528
SEQUENCE:3
DTSTAMP:20260425T020912Z
URL:https://business.perdidochamber.com/events/details/2023-ribbon-cutting-gulf-coast-musicians-medical-fund-34528
END:VEVENT

END:VCALENDAR
