BEGIN:VCALENDAR
VERSION:2.0
PRODID:-//ChamberMaster//Event Calendar 2.0//EN
METHOD:PUBLISH
X-PUBLISHED-TTL:P3D
REFRESH-INTERVAL:P3D
CALSCALE:GREGORIAN
BEGIN:VEVENT
DTSTART:20230615T210000Z
DTEND:20230615T213000Z
X-MICROSOFT-CDO-ALLDAYEVENT:FALSE
SUMMARY:2023 Ribbon Cutting - ONE Club Pickle Ball Courts
DESCRIPTION:Join us in celebrating with ONE Club Gulf Shores their BRAND NEW Pickle Ball Courts. Celebrate their grand reopening with a ribbon-cutting ceremony on July 15th at 4:00PM
X-ALT-DESC;FMTTYPE=text/html:Join us in celebrating with ONE Club Gulf Shores their BRAND NEW Pickle Ball Courts. Celebrate their grand reopening with a ribbon-cutting ceremony on July 15th at 4:00PM
LOCATION:ONE Club Gulf Shores Pickle Ball Courts 4500 Gulf Shores Parkway Gulf Shores\, AL
UID:e.2644.34156
SEQUENCE:3
DTSTAMP:20260425T110500Z
URL:https://business.perdidochamber.com/events/details/2023-ribbon-cutting-one-club-pickle-ball-courts-34156
END:VEVENT

END:VCALENDAR
