BEGIN:VCALENDAR
VERSION:2.0
PRODID:-//ChamberMaster//Event Calendar 2.0//EN
METHOD:PUBLISH
X-PUBLISHED-TTL:P3D
REFRESH-INTERVAL:P3D
CALSCALE:GREGORIAN
BEGIN:VEVENT
DTSTART:20230328T160000Z
DTEND:20230328T163000Z
X-MICROSOFT-CDO-ALLDAYEVENT:FALSE
SUMMARY:2023 Ribbon Cutting - Sweet Love Ice Cream
DESCRIPTION:Grab some ice cream from their truck and join us in welcoming Sweet Love Ice Cream Truck to the PKACC family with a ribbon-cutting ceremony at the Perdido Key Area Chamber Offices\, 15500 Perdido Key Drive\, Perdido Key\, FL! Catch the action on the Perdido Chamber of Commerce Facebook page @PerdidoChamber.\n\n\n\nCheck out their menu at https://ursweetlove.square.site/
X-ALT-DESC;FMTTYPE=text/html:<span style="font-size:16px\;">Grab some ice cream from their truck and join us in welcoming <a href="https://www.facebook.com/ursweetlove.square.site"><u>Sweet Love Ice Cream Truck</u></a> to the PKACC family with a ribbon-cutting ceremony at the Perdido Key Area Chamber Offices\, 15500 Perdido Key Drive\, Perdido Key\, FL! Catch the action on the Perdido Chamber of Commerce Facebook page @PerdidoChamber.<br />\n<br />\nCheck out their menu at&nbsp\;<a href="https://ursweetlove.square.site/">https://ursweetlove.square.site/</a></span>
LOCATION:15500 Perdido Key Drive Perdido Key\, Florida 32507
UID:e.2644.33793
SEQUENCE:3
DTSTAMP:20260425T140407Z
URL:https://business.perdidochamber.com/events/details/2023-ribbon-cutting-sweet-love-ice-cream-33793
END:VEVENT

END:VCALENDAR
