BEGIN:VCALENDAR
VERSION:2.0
PRODID:-//ChamberMaster//Event Calendar 2.0//EN
METHOD:PUBLISH
X-PUBLISHED-TTL:P3D
REFRESH-INTERVAL:P3D
CALSCALE:GREGORIAN
BEGIN:VEVENT
DTSTART:20240417T220000Z
DTEND:20240418T000000Z
X-MICROSOFT-CDO-ALLDAYEVENT:FALSE
SUMMARY:2024 April Business After Hours Annual Luau
DESCRIPTION:The Perdido Key Area Chamber of Commerce would like to invite all Chamber members and future members to our monthly Business After Hours networking social. Bring your grass skirts and hula shirts to the Annual Perdido Key Luau at the Deck Bar at Lillian's Pizza!\n\n\n\nThis high-energy\, after-hours networking event is held once a month from 5:00 p.m. - 7:00 p.m.  This event allows Chamber members to network with each other in a relaxed\, informal setting at the host's location.\n\n\n\nApril Business After Hours will be held at\n\nLillian's Pizza Deck Bar\n\n14514 Perdido Key Drive \n\nPerdido Key\, FL 32507\n\n\n\nBring your business cards\, and door prizes are always welcome!\n\n\n\nFees/Admission:\n\nFree for all members\n\n$5 for non-members
X-ALT-DESC;FMTTYPE=text/html:<span style="font-size:16px\;"><span style="color: rgb(29\, 33\, 41)\; font-family: Helvetica\, Arial\, sans-serif\;">The Perdido Key Area Chamber of Commerce would like to invite all Chamber members and future members to our monthly Business After Hours networking social.&nbsp\;</span>Bring your grass skirts and hula shirts to the Annual Perdido Key Luau at the Deck Bar at Lillian&#39\;s Pizza!</span><br />\n<br />\n<span style="font-size:16px\;"><span style="color: rgb(51\, 51\, 51)\; font-family: sans-serif\, Arial\, Verdana\, &quot\;Trebuchet MS&quot\;\;"><span style="font-family: tahoma\;">This high-energy\, after-hours networking event is held once a month from 5:00 p.m. - 7:00 p.m.&nbsp\; This event allows Chamber members to network with each other in a relaxed\, informal setting at the host&#39\;s location.</span></span><br />\n<br />\n<span style="color: rgb(29\, 33\, 41)\; font-family: Helvetica\, Arial\, sans-serif\;">April Business After Hours will be held at<br />\nLillian&#39\;s Pizza Deck Bar</span></span><br />\n<span style="color: rgb(29\, 33\, 41)\; font-family: Helvetica\, Arial\, sans-serif\; font-size: 16px\;">14514 Perdido Key Drive&nbsp\;</span><br />\n<span style="color: rgb(29\, 33\, 41)\; font-family: Helvetica\, Arial\, sans-serif\; font-size: 16px\;">Perdido Key\, FL 32507</span><br />\n<br style="color: rgb(29\, 33\, 41)\; font-family: Helvetica\, Arial\, sans-serif\; font-size: 14px\;" />\n<span style="font-size:16px\;"><span style="color: rgb(29\, 33\, 41)\; font-family: Helvetica\, Arial\, sans-serif\;">Bring your business cards\, and door prizes are always welcome!</span><br style="color: rgb(29\, 33\, 41)\; font-family: Helvetica\, Arial\, sans-serif\; font-size: 14px\;" />\n<br style="color: rgb(29\, 33\, 41)\; font-family: Helvetica\, Arial\, sans-serif\; font-size: 14px\;" />\n<span style="color: rgb(29\, 33\, 41)\; font-family: Helvetica\, Arial\, sans-serif\;">Fees/Admission:</span><br style="color: rgb(29\, 33\, 41)\; font-family: Helvetica\, Arial\, sans-serif\; font-size: 14px\;" />\n<span style="color: rgb(29\, 33\, 41)\; font-family: Helvetica\, Arial\, sans-serif\;">Free for all members</span><br style="color: rgb(29\, 33\, 41)\; font-family: Helvetica\, Arial\, sans-serif\; font-size: 14px\;" />\n<span style="color: rgb(29\, 33\, 41)\; font-family: Helvetica\, Arial\, sans-serif\;">$5 for non-members</span></span>
LOCATION:Lillian's Pizza Deck Bar 14514 Perdido Key Drive Perdido Key\, FL 32507
UID:e.2644.35566
SEQUENCE:3
DTSTAMP:20260424T153912Z
URL:https://business.perdidochamber.com/events/details/2024-april-business-after-hours-annual-luau-35566
END:VEVENT

END:VCALENDAR
