BEGIN:VCALENDAR
VERSION:2.0
PRODID:-//ChamberMaster//Event Calendar 2.0//EN
METHOD:PUBLISH
X-PUBLISHED-TTL:P3D
REFRESH-INTERVAL:P3D
CALSCALE:GREGORIAN
BEGIN:VEVENT
DTSTART:20240619T220000Z
DTEND:20240620T000000Z
X-MICROSOFT-CDO-ALLDAYEVENT:FALSE
SUMMARY:2024 Business After Hours June
DESCRIPTION:The Perdido Key Area Chamber of Commerce would like to invite all Chamber members and future members to our monthly Business After Hours networking social.\n\n\n\nThis high-energy\, after-hours networking event is held once a month from 5:00PM - 7:00PM  This event allows Chamber members to network with each other in a relaxed\, informal setting at the host's location.\n\n\n\nJune's Business After Hours will be held at \n\nAlabama Gulf Coast Zoo\n\n20499 Oak Road East\n\n\n\nThis month will feature food and drinks from the Savanna Restaurant located on-site. Also\, enjoy visiting with plenty of the ALGC Zoo's Animal Ambassadors! Join us for giraffe feedings from 5-6pm & tortoise feedings from 6-7pm. \n\n\n\nBring your business cards\, and door prizes are always welcome!\n\n\n\nFees/Admission:\n\nFree for all members\n\n$5 for non-members\n\n\n\nReminder this is an adult only event. Thank you.
X-ALT-DESC;FMTTYPE=text/html:<span style="font-size:14px\;"><span style="color: rgb(29\, 33\, 41)\; font-family: Helvetica\, Arial\, sans-serif\;">The Perdido Key Area Chamber of Commerce would like to invite all Chamber members and future members to our monthly Business After Hours networking social.</span><br />\n<br />\n<span style="color: rgb(51\, 51\, 51)\; font-family: sans-serif\, Arial\, Verdana\, &quot\;Trebuchet MS&quot\;\;"><span style="font-family: tahoma\;">This high-energy\, after-hours networking event is held once a month from 5:00PM - 7:00PM&nbsp\; This event allows Chamber members to network with each other in a relaxed\, informal setting at the host&#39\;s location.</span></span><br />\n<br />\n<span style="color: rgb(29\, 33\, 41)\; font-family: Helvetica\, Arial\, sans-serif\;">June&#39\;s Business After Hours will be held at </span><br />\nAlabama Gulf Coast Zoo</span><br style="font-size: 14px\;" />\n<span style="font-size: 14px\;">20499 Oak Road East<br />\n<br />\nThis month will feature food and drinks from the Savanna Restaurant located on-site. Also\, enjoy visiting with plenty of the ALGC Zoo&#39\;s Animal Ambassadors! Join us for giraffe feedings from 5-6pm &amp\; tortoise feedings from 6-7pm.&nbsp\;</span><br />\n<br style="color: rgb(29\, 33\, 41)\; font-family: Helvetica\, Arial\, sans-serif\; font-size: 14px\;" />\n<span style="font-size:14px\;"><span style="color: rgb(29\, 33\, 41)\; font-family: Helvetica\, Arial\, sans-serif\;">Bring your business cards\, and door prizes are always welcome!</span><br style="color: rgb(29\, 33\, 41)\; font-family: Helvetica\, Arial\, sans-serif\; font-size: 14px\;" />\n<br style="color: rgb(29\, 33\, 41)\; font-family: Helvetica\, Arial\, sans-serif\; font-size: 14px\;" />\n<span style="color: rgb(29\, 33\, 41)\; font-family: Helvetica\, Arial\, sans-serif\;">Fees/Admission:</span><br style="color: rgb(29\, 33\, 41)\; font-family: Helvetica\, Arial\, sans-serif\; font-size: 14px\;" />\n<span style="color: rgb(29\, 33\, 41)\; font-family: Helvetica\, Arial\, sans-serif\;">Free for all members</span><br style="color: rgb(29\, 33\, 41)\; font-family: Helvetica\, Arial\, sans-serif\; font-size: 14px\;" />\n<span style="color: rgb(29\, 33\, 41)\; font-family: Helvetica\, Arial\, sans-serif\;">$5 for non-members</span></span><br />\n<br />\n<em>Reminder this is an adult only event. Thank you.&nbsp\;</em>
LOCATION:Alabama Gulf Coast Zoo 20499 Oak Road East Gulf Shores\, AL 36542
UID:e.2644.35719
SEQUENCE:3
DTSTAMP:20260424T120123Z
URL:https://business.perdidochamber.com/events/details/2024-business-after-hours-june-35719
END:VEVENT

END:VCALENDAR
