BEGIN:VCALENDAR
VERSION:2.0
PRODID:-//ChamberMaster//Event Calendar 2.0//EN
METHOD:PUBLISH
X-PUBLISHED-TTL:P3D
REFRESH-INTERVAL:P3D
CALSCALE:GREGORIAN
BEGIN:VEVENT
DTSTART:20240717T220000Z
DTEND:20240718T000000Z
X-MICROSOFT-CDO-ALLDAYEVENT:FALSE
SUMMARY:2024 CANCELLED Business After Hours July 2024
DESCRIPTION:Due to unforeseen circumstances\, this month's Business After Hours event has been canceled. We apologize for any inconvenience!\n\n\n\nWe hope you will join us for our other networking events this month:\n\n\n\nSpill the Beans\, Community Conversations: Friday\, July 12th at 7:30AM at Hub Stacey's at the Point\n\n\n\nNetworking Luncheon: Thursday\, July 25th at 11:30AM at the Crab Trap\n\n\n\nWe look forward to connecting with you at these events!\n\n\n\nThank you\,\n\nPerdido Key Area Chamber of Commerce\n\n\n \n\n\n\n\nThe Perdido Key Area Chamber of Commerce would like to invite all Chamber members and future members to our monthly Business After Hours networking social.\n\n\n\nThis high-energy\, after-hours networking event is held once a month from 5:00PM - 7:00PM  This event allows Chamber members to network with each other in a relaxed\, informal setting at the host's location.\n\n\n\nJuly's Business After Hours will be held at \n\nAltura Perdido Apartments\n\n13450 Perdido Key Drive\n\nPensacola\, FL 32507\n\n\n\nBring your business cards\, and door prizes are always welcome!\n\n\n\nFees/Admission:\n\nFree for all members\n\n$5 for non-members
X-ALT-DESC;FMTTYPE=text/html:<div animation-name:="" class="xdj266r x11i5rnm xat24cr x1mh8g0r x1vvkbs x126k92a" color:="" font-size:="" none="" segoe="" style="margin: 0px\; overflow-wrap: break-word\; white-space-collapse: preserve\; font-family: " transition-property:="" ui="">\n<div dir="auto" style="font-family: inherit\; animation-name: none !important\; transition-property: none !important\; text-align: center\;"><strong>Due to unforeseen circumstances\, this month&#39\;s Business After Hours event has been canceled. We apologize for any inconvenience!</strong></div>\n</div>\n\n<div animation-name:="" class="x11i5rnm xat24cr x1mh8g0r x1vvkbs xtlvy1s x126k92a" color:="" font-size:="" none="" segoe="" style="margin: 0.5em 0px 0px\; overflow-wrap: break-word\; white-space-collapse: preserve\; font-family: " transition-property:="" ui="">\n<div dir="auto" style="font-family: inherit\; animation-name: none !important\; transition-property: none !important\; text-align: center\;"><strong>We hope you will join us for our other networking events this month:</strong></div>\n</div>\n\n<div animation-name:="" class="x11i5rnm xat24cr x1mh8g0r x1vvkbs xtlvy1s x126k92a" color:="" font-size:="" none="" segoe="" style="margin: 0.5em 0px 0px\; overflow-wrap: break-word\; white-space-collapse: preserve\; font-family: " transition-property:="" ui="">\n<div dir="auto" style="font-family: inherit\; animation-name: none !important\; transition-property: none !important\; text-align: center\;"><strong>Spill the Beans\, Community Conversations: Friday\, July 12th at 7:30AM at Hub Stacey&#39\;s at the Point</strong></div>\n</div>\n\n<div animation-name:="" class="x11i5rnm xat24cr x1mh8g0r x1vvkbs xtlvy1s x126k92a" color:="" font-size:="" none="" segoe="" style="margin: 0.5em 0px 0px\; overflow-wrap: break-word\; white-space-collapse: preserve\; font-family: " transition-property:="" ui="">\n<div dir="auto" style="font-family: inherit\; animation-name: none !important\; transition-property: none !important\; text-align: center\;"><strong>Networking Luncheon: Thursday\, July 25th at 11:30AM at the Crab Trap</strong></div>\n</div>\n\n<div animation-name:="" class="x11i5rnm xat24cr x1mh8g0r x1vvkbs xtlvy1s x126k92a" color:="" font-size:="" none="" segoe="" style="margin: 0.5em 0px 0px\; overflow-wrap: break-word\; white-space-collapse: preserve\; font-family: " transition-property:="" ui="">\n<div dir="auto" style="font-family: inherit\; animation-name: none !important\; transition-property: none !important\; text-align: center\;"><strong>We look forward to connecting with you at these events!</strong></div>\n</div>\n\n<div animation-name:="" class="x11i5rnm xat24cr x1mh8g0r x1vvkbs xtlvy1s x126k92a" color:="" font-size:="" none="" segoe="" style="margin: 0.5em 0px 0px\; overflow-wrap: break-word\; white-space-collapse: preserve\; font-family: " transition-property:="" ui="">\n<div dir="auto" style="font-family: inherit\; animation-name: none !important\; transition-property: none !important\; text-align: center\;"><strong>Thank you\,</strong></div>\n\n<div dir="auto" style="font-family: inherit\; animation-name: none !important\; transition-property: none !important\; text-align: center\;"><strong>Perdido Key Area Chamber of Commerce</strong></div>\n</div>\n\n<div style="text-align: center\;">&nbsp\;</div>\n<br />\n<br />\n<span style="font-size:14px\;"><span style="color: rgb(29\, 33\, 41)\; font-family: Helvetica\, Arial\, sans-serif\;">The Perdido Key Area Chamber of Commerce would like to invite all Chamber members and future members to our monthly Business After Hours networking social.</span><br />\n<br />\n<span style="color: rgb(51\, 51\, 51)\; font-family: sans-serif\, Arial\, Verdana\, " trebuchet=""><span style="font-family: tahoma\;">This high-energy\, after-hours networking event is held once a month from 5:00PM - 7:00PM&nbsp\; This event allows Chamber members to network with each other in a relaxed\, informal setting at the host&#39\;s location.</span></span><br />\n<br />\n<span style="color: rgb(29\, 33\, 41)\; font-family: Helvetica\, Arial\, sans-serif\;">July&#39\;s Business After Hours will be held at </span><br />\nAltura Perdido Apartments</span><br style="font-size: 14px\;" />\n<span style="font-size: 14px\;">13450 Perdido Key Drive</span><br style="font-size: 14px\;" />\n<span style="font-size: 14px\;">Pensacola\, FL 32507</span><br />\n<br style="color: rgb(29\, 33\, 41)\; font-family: Helvetica\, Arial\, sans-serif\; font-size: 14px\;" />\n<span style="font-size:14px\;"><span style="color: rgb(29\, 33\, 41)\; font-family: Helvetica\, Arial\, sans-serif\;">Bring your business cards\, and door prizes are always welcome!</span><br style="color: rgb(29\, 33\, 41)\; font-family: Helvetica\, Arial\, sans-serif\; font-size: 14px\;" />\n<br style="color: rgb(29\, 33\, 41)\; font-family: Helvetica\, Arial\, sans-serif\; font-size: 14px\;" />\n<span style="color: rgb(29\, 33\, 41)\; font-family: Helvetica\, Arial\, sans-serif\;">Fees/Admission:</span><br style="color: rgb(29\, 33\, 41)\; font-family: Helvetica\, Arial\, sans-serif\; font-size: 14px\;" />\n<span style="color: rgb(29\, 33\, 41)\; font-family: Helvetica\, Arial\, sans-serif\;">Free for all members</span><br style="color: rgb(29\, 33\, 41)\; font-family: Helvetica\, Arial\, sans-serif\; font-size: 14px\;" />\n<span style="color: rgb(29\, 33\, 41)\; font-family: Helvetica\, Arial\, sans-serif\;">$5 for non-members</span></span><br />\n&nbsp\;
LOCATION:Altura Perdido Apartments 13450 Perdido Key Drive Event Location: Altura Clubhouse Enter through the gates of the community and take the second left. Follow the road around and take a right and you will see the clubhouse.
UID:e.2644.35840
SEQUENCE:3
DTSTAMP:20260424T120213Z
URL:https://business.perdidochamber.com/events/details/2024-cancelled-business-after-hours-july-2024-35840
END:VEVENT

END:VCALENDAR
