BEGIN:VCALENDAR
VERSION:2.0
PRODID:-//ChamberMaster//Event Calendar 2.0//EN
METHOD:PUBLISH
X-PUBLISHED-TTL:P3D
REFRESH-INTERVAL:P3D
CALSCALE:GREGORIAN
BEGIN:VEVENT
DTSTART;VALUE=DATE:20240830
DTEND;VALUE=DATE:20240902
TRANSP:TRANSPARENT
X-MICROSOFT-CDO-ALLDAYEVENT:TRUE
SUMMARY:2024 Labor Day Weekend Party
DESCRIPTION:Kick off fall with us at the Labor Day Weekend Party August 30th through September 1st! Start the weekend on Friday\, August 31st\, with free kids' activities\, photo ops with stilt walkers\, and popsicles in Downtown OWA. At 4:30 pm\, come enjoy a dive-in movie at Big Water Bay on the big screen in Tropic Falls.*\n\n \n\nReturning for its sixth year\, the OWA Labor Day Car Show is back on Saturday\, August 31st! During this picturesque fall event\, cars of all makes and models will be on display throughout the charming streets of Downtown OWA. With hot rods and custom builds from all decades lining the streets\, this car show is bound to have something that catches your eye! Check out the details here: link to car show landing page.\n\n \n\nStick around after the Car Show on Saturday\, September 1st\, for lawn games and a free live outdoor concert! Join us on OWA Island for live music from Jenna McClelland at 5:30 pm and Brandon Giles at 7:30 pm. PLUS\, round off the night with epic fireworks show at 8:50 pm\, synchronized with patriotic music playing throughout the property. The fireworks will go off at 8:50 pm sharp and can be seen in the air over Downtown OWA & Tropic Falls.\n\nOn Sunday\, we won't be slowing down the fun! There will be kid activities at Tropic Falls and a complimentary Red\, White\, and Red Popsicles at the Native Treasures Alcove. More live music will follow\, starting at 4:30 pm with Duhe and Daboys. Closing out the night\, Tobacco Rd band at 6pm will be performing a live blend of country-rock. So\, grab a cozy flannel\, enjoy the fall weather\, and catch them both at the Island Stage!\n\n \n\n*Tropic Falls admission ticket or pass is required for the Dive-In movie night and activities behind the gates. \n\n \n\nSchedule of Events-\n\nFriday\, August 30th \n\n	Noon   6:00 pm: Tuki Appearances intermittently in Downtown OWA & Tropic Falls\n	2:00 pm   6:00 pm: Kids' activities at Southern Express in Tropic Falls and Downtown Foutain*\n	2:00 pm   6:00 pm: Red\, White\, and Blue Popsicles (One per person\, while supplies last.)\n	4:00 pm   7:00 pm: Patriotic Stilt Walkers roaming for guest photos\n	4:00 pm   6:00 pm: Dive-In movie night at Big Water Bag   Remember the Titans (2000 | PG)*\n\nSaturday\, August 31st \n\n\n	9:00am   4:00 pm: First Baptist Church Labor Car Show in Downtown OWA  Check it out here! \n	Noon   6:00 pm: Tuki Appearances intermittently in Downtown OWA & Tropic Falls\n	3:00 pm   8:50 pm: Lawn Games on the Island \n	5:30 pm   7:00 pm: Free Live Music on the Island from Jenna McClelland \n	7:30 pm   9:30pm: Free Live Music on the Island from Brandon Giles\n	8:50 pm   9:00 pm: Labor Day Fireworks \n\nSunday\, September 1st \n\n\n	Noon   6:00 pm: Tuki Appearances intermittently in Downtown OWA & Tropic Falls\n	2:00 pm   6:00 pm: Kids' activities at Southern Express in Tropic Falls and Downtown Foutain*\n	2:00 pm   6:00 pm: Red\, White\, and Blue Popsicles (One per person\, while supplies last.)\n	2:00 pm   8:00 pm: Lawn Games on the Island \n	4:30 pm   6:00 pm: Free Live Music on the Island from Duhe and Daboys\n	6:00 pm   7:00 pm: Kids Flag Football game in the Festival Grounds\n	6:00 pm   8:00 pm: Free Live Music on the Island from Tobacco Rd. Band\n\n \n\n*Tropic Falls admission ticket or pass is required for the Dive-In movie night and activities behind the gates.
X-ALT-DESC;FMTTYPE=text/html:<span style="color:black"><span style="font-family:calibri\,sans-serif">Kick off fall with us at the Labor Day Weekend Party August 30<sup>th</sup> through September 1<sup>st</sup>! Start the weekend on Friday\, August 31<sup>st</sup>\, with free kids&rsquo\; activities\, photo ops with stilt walkers\, and popsicles in Downtown OWA. At 4:30 pm\, come enjoy a dive-in movie at Big Water Bay on the big screen in Tropic Falls.*</span></span><br />\n&nbsp\;<br />\n<span style="color:black"><span style="font-family:calibri\,sans-serif">Returning for its sixth year\, the OWA Labor Day Car Show is back on Saturday\, August 31<sup>st</sup>! During this picturesque fall event\, cars of all makes and models will be on display throughout the charming streets of Downtown OWA. With hot rods and custom builds from all decades lining the streets\, this car show is bound to have something that catches your eye! Check out the details here: link to car show landing page.</span></span><br />\n&nbsp\;<br />\n<span style="color:black">Stick around after the Car Show on Saturday\, September 1<sup>st</sup>\, for lawn games and a free live outdoor concert! Join us on OWA Island for live music from Jenna McClelland at 5:30 pm and Brandon Giles at 7:30 pm. </span>PLUS\, round off the night with epic fireworks show at 8:50 pm\, synchronized with patriotic music playing throughout the property. The fireworks will go off at 8:50 pm sharp and can be seen in the air over Downtown OWA &amp\; Tropic Falls.<br />\n<span style="color:black"><span style="font-family:calibri\,sans-serif">On Sunday\, we won&#39\;t be slowing down the fun! There will be kid activities at Tropic Falls and a complimentary Red\, White\, and Red Popsicles at the Native Treasures Alcove. More live music will follow\, starting at 4:30 pm with Duhe and Daboys. Closing out the night\, Tobacco Rd band at 6pm will be performing a live blend of country-rock. So\, grab a cozy flannel\, enjoy the fall weather\, and catch them both at the Island Stage!</span></span><br />\n&nbsp\;<br />\n<span style="color:black">*Tropic Falls admission ticket or pass is required for the Dive-In movie night and activities behind the gates. </span><br />\n&nbsp\;<br />\n<strong><u><span style="font-size:12.0pt">Schedule of Events-</span></u></strong><br />\n<strong><span style="font-size:12.0pt">Friday\, August 30<sup>th</sup> </span></strong>\n<ul>\n	<li><span style="font-size:12.0pt">Noon &ndash\; 6:00 pm: </span>Tuki Appearances intermittently in Downtown OWA &amp\; Tropic Falls</li>\n	<li><span style="font-size:12.0pt">2:00 pm &ndash\; 6:00 pm: Kids&rsquo\; activities at Southern Express in Tropic Falls and Downtown Foutain*</span></li>\n	<li><span style="font-size:12.0pt">2:00 pm &ndash\; 6:00 pm: Red\, White\, and Blue Popsicles (One per person\, while supplies last.)</span></li>\n	<li><span style="font-size:12.0pt">4:00 pm &ndash\; 7:00 pm: </span>Patriotic Stilt Walkers roaming for guest photos</li>\n	<li>4:00 pm &ndash\; 6:00 pm: Dive-In movie night at Big Water Bag &ndash\; Remember the Titans (2000 | PG)*</li>\n</ul>\n<strong><span style="font-size:12.0pt">Saturday\, August 31<sup>st</sup> </span></strong>\n\n<ul>\n	<li><span style="font-size:12.0pt">9:00am &ndash\; 4:00 pm: First Baptist Church Labor Car Show in Downtown OWA&ndash\; Check it out here! </span></li>\n	<li><span style="font-size:12.0pt">Noon &ndash\; 6:00 pm: </span>Tuki Appearances intermittently in Downtown OWA &amp\; Tropic Falls</li>\n	<li><span style="font-size:12.0pt">3:00 pm &ndash\; 8:50 pm: Lawn Games on the Island </span></li>\n	<li><span style="font-size:12.0pt">5:30 pm &ndash\; 7:00 pm: Free Live Music on the Island from Jenna McClelland </span></li>\n	<li><span style="font-size:12.0pt">7:30 pm &ndash\; 9:30pm: Free Live Music on the Island from Brandon Giles</span></li>\n	<li><span style="font-size:12.0pt">8:50 pm &ndash\; 9:00 pm: Labor Day Fireworks </span></li>\n</ul>\n<strong><span style="font-size:12.0pt">Sunday\, September 1<sup>st</sup> </span></strong>\n\n<ul>\n	<li><span style="font-size:12.0pt">Noon &ndash\; 6:00 pm: </span>Tuki Appearances intermittently in Downtown OWA &amp\; Tropic Falls</li>\n	<li>2:00 pm &ndash\; 6:00 pm: <span style="font-size:12.0pt">Kids&rsquo\; activities at Southern Express in Tropic Falls and Downtown Foutain*</span></li>\n	<li><span style="font-size:12.0pt">2:00 pm &ndash\; 6:00 pm: Red\, White\, and Blue Popsicles (One per person\, while supplies last.)</span></li>\n	<li><span style="font-size:12.0pt">2:00 pm &ndash\; 8:00 pm: Lawn Games on the Island </span></li>\n	<li><span style="font-size:12.0pt">4:30 pm &ndash\; 6:00 pm: Free Live Music on the Island from Duhe and Daboys</span></li>\n	<li><span style="font-size:12.0pt">6:00 pm &ndash\; 7:00 pm: Kids Flag Football game in the Festival Grounds</span></li>\n	<li><span style="font-size:12.0pt">6:00 pm &ndash\; 8:00 pm: Free Live Music on the Island from Tobacco Rd. Band</span></li>\n</ul>\n&nbsp\;<br />\n<span style="color:black">*Tropic Falls admission ticket or pass is required for the Dive-In movie night and activities behind the gates. </span><br />\n&nbsp\;<br />\n&nbsp\;<br />\n&nbsp\;
LOCATION:Downtown OWA & Tropic Falls
UID:e.2644.36376
SEQUENCE:3
DTSTAMP:20260422T204151Z
URL:https://business.perdidochamber.com/events/details/2024-labor-day-weekend-party-36376
END:VEVENT

END:VCALENDAR
