BEGIN:VCALENDAR
VERSION:2.0
PRODID:-//ChamberMaster//Event Calendar 2.0//EN
METHOD:PUBLISH
X-PUBLISHED-TTL:P3D
REFRESH-INTERVAL:P3D
CALSCALE:GREGORIAN
BEGIN:VEVENT
DTSTART:20240328T220000Z
DTEND:20240329T010000Z
X-MICROSOFT-CDO-ALLDAYEVENT:FALSE
SUMMARY:2024 MARCH Lost Key Lighted Night Market
DESCRIPTION:Lost Key Lighted Night Market\n\n\n\nThe Perdido Key Area Chamber\, in partnership with Luxury Coastal Vacations\, is hosting another Lighted Night Market on the Lost Key on March 28th\, 2024 at Villagio in Perdido Key!\n\n\n\nImagine taking an evening stroll through a market where each vendor has decorated their tent with unique lights and has opportunities for attendees to purchase unique Arts and Crafts\, Artisan goods and handmade jewelry\, sample local flavors and maybe even catch a performance from a local entertainer or share in an experience that only Perdido Key can offer. \n\n\n\nStarting at 5:00 PM until 8:00 PM Guests are invited to wander through and explore locally sourced crafts and enjoy entertainment!  \n\n\n\nThis event is FREE to the general public to attend!\n\n\n\nALL VENDOR SPOTS ARE FILLED!\n\n\n\nENTERTAINMENT\n\n\n\nMIKE DIAMOND -  Unapologetically proud of his southern heritage\, Mike Diamond's music is reflective of how he is and the values he holds dear. Born into a family of musicians\, there was a constant exposure to a diverse variety of music. His grandfather was a minister of music as well as jazz musician. His father\, a first generation\, Flora-Bama performer\, introduced him to honky-tonk and traditional country. Through his mother\, he found rock n' roll. His appreciation for such a wide variety of music results in a performance that is genuine\, no matter the genre. His sets are reminiscent of a history lesson over nine decades of music\, including his own original songs and a few unexpected but pleasant surprises sprinkled in. \n\n\n\nBRITTANY GRIMES - Brittany Grimes is a singer/songwriter proudly hailing from South Alabama. By age 15\, she was writing songs and performing in Nashville on Broadway. Over the years\, she has performed at many festivals\, including Nashville's CMA Fest\, along with many small town and well-known venues. Her influences in music range from the classics such as Dolly Parton and Loretta Lynn\, down to local musicians and songwriters she's proud to call friends. Brittany has an EP and a single available for download on all digital platforms.
X-ALT-DESC;FMTTYPE=text/html:<p><span style="font-size:16px\;"><span style="font-family:arial\;"><strong><span style="color:#333333\;">Lost Key Lighted Night Market</span></strong></span></span><br />\n<br />\n<span style="font-size:16px\;"><span style="font-family:arial\;">The Perdido Key Area Chamber\, in partnership with Luxury Coastal Vacations\, is hosting another&nbsp\;Lighted Night Market on&nbsp\;the Lost Key on March&nbsp\;28th\, 2024 at Villagio in Perdido Key!<br />\n<br />\nImagine taking an evening stroll through a market where each vendor has decorated their tent with unique lights and has opportunities for attendees&nbsp\;to purchase unique Arts and Crafts\, Artisan goods and handmade jewelry\, sample local flavors and maybe even catch a performance from a local entertainer or share in an experience that only Perdido Key can offer.&nbsp\;<br />\n<br />\n<span style="color:#333333\;"><strong>Starting at 5:00 PM&nbsp\;until 8:00 PM</strong>&nbsp\;Guests are invited to wander through and explore locally sourced crafts and enjoy entertainment!&nbsp\;&nbsp\;</span><br />\n<br />\nThis event is FREE to the general public to attend!<br />\n<br />\nALL VENDOR SPOTS ARE FILLED!<br />\n<br />\n<u><strong>ENTERTAINMENT</strong></u><br />\n<br />\nMIKE DIAMOND&nbsp\;-&nbsp\;</span></span><span style="font-size:16px\;"><span style="font-family:arial\;">&nbsp\;Unapologetically proud of his southern heritage\, Mike Diamond&#39\;s music is reflective of how he is and the values he holds dear. Born into a family of musicians\, there was a constant exposure to a diverse variety of music. His grandfather was a minister of music as well as jazz musician. His father\, a first generation\, Flora-Bama performer\, introduced him to honky-tonk and traditional country. Through his mother\, he found rock n&#39\; roll. His appreciation for such a wide variety of music results in a performance that is genuine\, no matter the genre. His sets are reminiscent of a history lesson over nine decades of music\, including his own original songs and a few unexpected but pleasant surprises sprinkled in.&nbsp\;<br />\n<br />\nBRITTANY GRIMES - Brittany Grimes is a singer/songwriter proudly hailing from South Alabama. By age 15\, she was writing songs and performing in Nashville on Broadway. Over the years\, she has performed at many festivals\, including Nashville&#39\;s CMA Fest\, along with many small town and well-known venues. Her influences in music range from the classics such as Dolly Parton and Loretta Lynn\, down to local musicians and songwriters she&#39\;s proud to call friends. Brittany has an EP and a single available for download on all digital platforms.</span></span><br />\n&nbsp\;</p>\n
LOCATION:The Event is located at Villagio\, 13700 Perdido Key Drive\, Pensacola\, FL
UID:e.2644.35545
SEQUENCE:3
DTSTAMP:20260424T170636Z
URL:https://business.perdidochamber.com/events/details/2024-march-lost-key-lighted-night-market-35545
END:VEVENT

END:VCALENDAR
