BEGIN:VCALENDAR
VERSION:2.0
PRODID:-//ChamberMaster//Event Calendar 2.0//EN
METHOD:PUBLISH
X-PUBLISHED-TTL:P3D
REFRESH-INTERVAL:P3D
CALSCALE:GREGORIAN
BEGIN:VEVENT
DTSTART:20240530T210000Z
DTEND:20240530T230000Z
X-MICROSOFT-CDO-ALLDAYEVENT:FALSE
SUMMARY:2024 MAY Birdies & Bunkers: Mastering the Golf Course
DESCRIPTION:Join us on May 30th at Lost Key Golf Club for an exclusive ladies only evening of networking\, learning\, and mastering the art of golf at "Birdies & Bunkers: Mastering the Golf Course" presented by the Chamber's Women Mean Business Committee.\n\nAt "Birdies & Bunkers\," you'll receive hands-on instruction from experienced golf pros\, covering everything from golf basics to mastering those tricky spots on the course. Whether you're a complete beginner or looking to refine your skills\, this event is designed to meet you where you are on your golf journey.\n\nWere you interested in participating in our High Heel Classic or Red\, White\, & Birdie events but unsure about your golf skills? This event is the perfect opportunity for you to jump-start your basic golf knowledge and skills!\n\nWhy is golf important in the business world? Because business can done on the golf course. Golf provides a unique opportunity for networking\, relationship-building\, and conducting business in a relaxed and enjoyable setting. \n\nDon't miss out on this chance to enhance your golf skills and connect with fellow businesswomen. Reserve your spot today and get ready to tee off to master the golf course.\n\n\n\nEvent Photography\;  Please be advised that photos or videos may be taken at this event for use on the Chamber website\, social media\, and/or other promotional materials.  Your attendance at this event gives consent for the Perdido Key Area Chamber of Commerce to use your image and likeness for education\, archival\, and promotional purposes.\n\n\n\nRefund policy\;  As a non-profit all funds received from this event directly impact and support the initiatives of the Perdido Key Area Chamber Foundation.  Therefore\, we do not issue refunds for cancellations.  We appreciate your understanding.
X-ALT-DESC;FMTTYPE=text/html:<p style="border: 0px solid rgb(227\, 227\, 227)\; box-sizing: border-box\; --tw-border-spacing-x: 0\; --tw-border-spacing-y: 0\; --tw-translate-x: 0\; --tw-translate-y: 0\; --tw-rotate: 0\; --tw-skew-x: 0\; --tw-skew-y: 0\; --tw-scale-x: 1\; --tw-scale-y: 1\; --tw-pan-x: \; --tw-pan-y: \; --tw-pinch-zoom: \; --tw-scroll-snap-strictness: proximity\; --tw-gradient-from-position: \; --tw-gradient-via-position: \; --tw-gradient-to-position: \; --tw-ordinal: \; --tw-slashed-zero: \; --tw-numeric-figure: \; --tw-numeric-spacing: \; --tw-numeric-fraction: \; --tw-ring-inset: \; --tw-ring-offset-width: 0px\; --tw-ring-offset-color: #fff\; --tw-ring-color: rgba(69\,89\,164\,.5)\; --tw-ring-offset-shadow: 0 0 transparent\; --tw-ring-shadow: 0 0 transparent\; --tw-shadow: 0 0 transparent\; --tw-shadow-colored: 0 0 transparent\; --tw-blur: \; --tw-brightness: \; --tw-contrast: \; --tw-grayscale: \; --tw-hue-rotate: \; --tw-invert: \; --tw-saturate: \; --tw-sepia: \; --tw-drop-shadow: \; --tw-backdrop-blur: \; --tw-backdrop-brightness: \; --tw-backdrop-contrast: \; --tw-backdrop-grayscale: \; --tw-backdrop-hue-rotate: \; --tw-backdrop-invert: \; --tw-backdrop-opacity: \; --tw-backdrop-saturate: \; --tw-backdrop-sepia: \; --tw-contain-size: \; --tw-contain-layout: \; --tw-contain-paint: \; --tw-contain-style: \; margin: 0px 0px 1.25em\; color: rgb(13\, 13\, 13)\; font-family: Söhne\, ui-sans-serif\, system-ui\, -apple-system\, &quot\;Segoe UI&quot\;\, Roboto\, Ubuntu\, Cantarell\, &quot\;Noto Sans&quot\;\, sans-serif\, &quot\;Helvetica Neue&quot\;\, Arial\, &quot\;Apple Color Emoji&quot\;\, &quot\;Segoe UI Emoji&quot\;\, &quot\;Segoe UI Symbol&quot\;\, &quot\;Noto Color Emoji&quot\;\; font-size: 16px\; white-space-collapse: preserve\;"><span style="background-image:initial\;background-position:initial\;background-size:initial\;background-repeat:initial\;background-attachment:initial\;background-origin:initial\;background-clip:initial\;"><span style="color:#0d0d0d\;"><span style="font-family:arial\,sans-serif\;">Join us on May 30<sup>th</sup> at Lost Key Golf Club for an exclusive ladies only evening of networking\, learning\, and mastering the art of golf at &quot\;Birdies &amp\; Bunkers: Mastering the Golf Course&quot\; presented by the Chamber&#39\;s Women Mean Business Committee.</span></span></span><br />\n<span style="background-image:initial\;background-position:initial\;background-size:initial\;background-repeat:initial\;background-attachment:initial\;background-origin:initial\;background-clip:initial\;"><span style="color:#0d0d0d\;"><span style="font-family:arial\,sans-serif\;">At &quot\;Birdies &amp\; Bunkers\,&quot\; you&#39\;ll receive hands-on instruction from experienced golf pros\, covering everything from golf basics to mastering those tricky spots on the course. Whether you&#39\;re a complete beginner or looking to refine your skills\, this event is designed to meet you where you are on your golf journey.</span></span></span><br />\n<span style="background-image:initial\;background-position:initial\;background-size:initial\;background-repeat:initial\;background-attachment:initial\;background-origin:initial\;background-clip:initial\;"><span style="color:#0d0d0d\;"><span style="font-family:arial\,sans-serif\;"><span style="white-space-collapse:preserve\;">Were </span><span style="white-space-collapse:preserve\;">you interested in participating in our High Heel Classic or Red\, White\, &amp\; Birdie events</span><span style="white-space-collapse:preserve\;"> but unsure about your golf skills? This event is the perfect opportunity for you to jump-start your basic golf knowledge and skills!</span></span></span></span><br />\n<span style="background-image:initial\;background-position:initial\;background-size:initial\;background-repeat:initial\;background-attachment:initial\;background-origin:initial\;background-clip:initial\;"><span style="color:#0d0d0d\;"><span style="font-family:arial\,sans-serif\;"><span style="white-space-collapse:preserve\;">Why is golf important in the business world? Because business can done on the golf course. Golf provides a unique opportunity for networking\, relationship-building\, and conducting business in a relaxed and enjoyable setting. </span></span></span></span><br />\n<span style="white-space-collapse:preserve\;"><span style="background-image:initial\;background-position:initial\;background-size:initial\;background-repeat:initial\;background-attachment:initial\;background-origin:initial\;background-clip:initial\;"><span style="color:#0d0d0d\;"><span style="font-family:arial\,sans-serif\;">Don&#39\;t miss out on this chance to enhance your golf skills and connect with fellow businesswomen. Reserve your spot today and get ready to tee off to master the golf course.</span></span></span></span><br />\n<br />\n<em style="font-size: 11px\; font-weight: 600\;"><span style="color: rgb(255\, 0\, 0)\;">Event Photography\;</span>&nbsp\; Please be advised that photos or videos may be taken at this event for use on the Chamber website\, social media\, and/or other promotional materials.&nbsp\; Your attendance at this event gives consent for the Perdido Key Area Chamber of Commerce to use your image and likeness for education\, archival\, and promotional purposes.<br />\n<br />\n<span style="color: rgb(255\, 0\, 0)\;">Refund policy\;</span>&nbsp\; As a non-profit all funds received from this event directly impact and support the&nbsp\;initiatives of the Perdido Key Area Chamber Foundation.&nbsp\; Therefore\, we do not issue refunds for cancellations.&nbsp\; We appreciate your understanding.</em></p>\n
LOCATION:Lost Key Golf Course 625 Lost Key Drive Perdido Key\, FL 32507
UID:e.2644.35709
SEQUENCE:3
DTSTAMP:20260424T134415Z
URL:https://business.perdidochamber.com/events/details/2024-may-birdies-bunkers-mastering-the-golf-course-35709
END:VEVENT

END:VCALENDAR
