BEGIN:VCALENDAR
VERSION:2.0
PRODID:-//ChamberMaster//Event Calendar 2.0//EN
METHOD:PUBLISH
X-PUBLISHED-TTL:P3D
REFRESH-INTERVAL:P3D
CALSCALE:GREGORIAN
BEGIN:VEVENT
DTSTART:20240719T050000Z
DTEND:20240721T220000Z
X-MICROSOFT-CDO-ALLDAYEVENT:FALSE
SUMMARY:2024 Perdido Key Fishing Rodeo
DESCRIPTION:The Perdido Key Fishing Rodeo is a multi-species recreational fishing tournament with 4 inshore/ 4 offshore divisions: speckled trout\, redfish\, mangrove snapper\, flounder\, red snapper\, vermillion snapper\, king mackerel\, Spanish mackerel.\n\n\n\nA portion of the proceeds will support the military initiatives and programs of the Perdido Area Chamber Foundation. \n\n\n\nHosted by Perdido Key Chamber\, Entertainer Bait & Tackle\, and the Perdido Area Chamber Foundation.\n\nClick here to download the informational flyer.\n\n\n\nWinnings:\n\nEach division will pay out 1st\, 2nd\, and 3rd place.\n\n\n\nClick here for tournament rules\n\n\n\nRain date - July 26-28
X-ALT-DESC;FMTTYPE=text/html:<span style="font-size:14px\;"><span style="font-family:arial\;">The Perdido Key Fishing Rodeo is a multi-species recreational fishing tournament with 4 inshore/ 4 offshore divisions: speckled trout\, redfish\, mangrove snapper\, flounder\, red snapper\, vermillion snapper\, king mackerel\, Spanish mackerel.<br />\n<br />\nA portion of the proceeds will support the military initiatives and programs of the Perdido Area Chamber Foundation.&nbsp\;<br />\n<br />\nHosted by Perdido Key Chamber\, Entertainer Bait &amp\; Tackle\, and the Perdido Area Chamber Foundation.<br />\n<a href="https://chambermaster.blob.core.windows.net/userfiles/UserFiles/chambers/2644/File/PKfishingrodeouse.pdf">Click here to download the informational flyer.</a><br />\n<br />\nWinnings:<br />\nEach division will pay out 1st\, 2nd\, and 3rd place.<br />\n<br />\n<a href="https://chambermaster.blob.core.windows.net/userfiles/UserFiles/chambers/2644/File/PKfishingrules.pdf">Click here for tournament rules</a><br />\n<br />\nRain date - July 26-28</span></span>
LOCATION:Entertainer Bait & Tackle 13506 Perdido Key Drive Pensacola\, FL 32507
UID:e.2644.35738
SEQUENCE:3
DTSTAMP:20260424T102323Z
URL:https://business.perdidochamber.com/events/details/2024-perdido-key-fishing-rodeo-35738
END:VEVENT

END:VCALENDAR
