BEGIN:VCALENDAR
VERSION:2.0
PRODID:-//ChamberMaster//Event Calendar 2.0//EN
METHOD:PUBLISH
X-PUBLISHED-TTL:P3D
REFRESH-INTERVAL:P3D
CALSCALE:GREGORIAN
BEGIN:VEVENT
DTSTART:20240229T220000Z
DTEND:20240229T230000Z
X-MICROSOFT-CDO-ALLDAYEVENT:FALSE
SUMMARY:2024 Ribbon Cutting & Grand Opening - Abide Boutique
DESCRIPTION:Come celebrate the Grand Opening and Grand Opening of Abide Boutique in Orange Beach\, AL! Join the Perdido Key Area Chamber of Commerce\, South Baldwin\, and Coastal Alabama Business Chamber for a joint Ribbon Cutting Celebration! \n\n\n\nGrand Opening Party - The store opens at 10:00 AM \n\nReceive a gift with purchase\, spend $150 or more\, and be entered into a drawing for a free pair of statement earrings of your choice!
X-ALT-DESC;FMTTYPE=text/html:<span style="font-size:16px\;"><span style="font-family:arial\;">Come celebrate the Grand Opening and Grand Opening of Abide Boutique in Orange Beach\, AL! Join the Perdido Key Area Chamber of Commerce\, South Baldwin\, and Coastal Alabama Business Chamber for a joint Ribbon Cutting Celebration!&nbsp\;<br />\n<br />\nGrand Opening Party - The store opens at 10:00 AM&nbsp\;</span><br />\nReceive a gift with purchase\, spend $150 or more\, and be entered into a drawing for a free pair of statement earrings of your choice!</span>
LOCATION:25747 Perdido Beach Blvd #B7\, Orange Beach\, AL 36561
UID:e.2644.35547
SEQUENCE:3
DTSTAMP:20260424T185152Z
URL:https://business.perdidochamber.com/events/details/2024-ribbon-cutting-grand-opening-abide-boutique-35547
END:VEVENT

END:VCALENDAR
