BEGIN:VCALENDAR
VERSION:2.0
PRODID:-//ChamberMaster//Event Calendar 2.0//EN
METHOD:PUBLISH
X-PUBLISHED-TTL:P3D
REFRESH-INTERVAL:P3D
CALSCALE:GREGORIAN
BEGIN:VEVENT
DTSTART:20240524T213000Z
DTEND:20240524T220000Z
X-MICROSOFT-CDO-ALLDAYEVENT:FALSE
SUMMARY:2024 Ribbon Cutting & Grand Opening - Eagle Worldwide Camp Ablaze
DESCRIPTION:Come celebrate the Grand Opening Weekend of Eagle Worldwide Camp Ablaze with a Ribbon Cutting celebration on May 24th at 4:30PM.
X-ALT-DESC;FMTTYPE=text/html:<span style="font-size:16px\;"><span style="font-family:arial\;">Come celebrate the Grand Opening Weekend of Eagle Worldwide Camp Ablaze with a Ribbon Cutting celebration on May 24th at 4:30PM.&nbsp\;</span></span>
LOCATION:12251 County Road 91 Lillian\, AL 36549
UID:e.2644.35726
SEQUENCE:3
DTSTAMP:20260424T134622Z
URL:https://business.perdidochamber.com/events/details/2024-ribbon-cutting-grand-opening-eagle-worldwide-camp-ablaze-35726
END:VEVENT

END:VCALENDAR
