BEGIN:VCALENDAR
VERSION:2.0
PRODID:-//ChamberMaster//Event Calendar 2.0//EN
METHOD:PUBLISH
X-PUBLISHED-TTL:P3D
REFRESH-INTERVAL:P3D
CALSCALE:GREGORIAN
BEGIN:VEVENT
DTSTART:20240615T150000Z
DTEND:20240615T160000Z
X-MICROSOFT-CDO-ALLDAYEVENT:FALSE
SUMMARY:2024 Ribbon Cutting & Grand Opening - Green Line Arms
DESCRIPTION:Join the Perdido Key Area Chamber of Commerce in celebrating Green Line Arms with a ribbon cutting on June 15th at 10 AM.  \n\n\n\nLimited Time Promotions:\n\n  50% OFF Range and Rental\n\n  10% OFF ALL Products!\n\n  25% OFF New Memberships\n\n\n\nSpecial Offers:\n\n  Every customer receives a free logo sticker!\n\n   Raffle: Every $20 spent earns one entry.\n\n\n\nAdditional Activities:\n\n  Photo opportunities with firearms!\n\n  Food Trucks on site!\n\n\n\nDon't miss out on these incredible offers and a chance to win big! See you there!\n\nFor more information on what prizes you can win visit www.greenlinearms.com
X-ALT-DESC;FMTTYPE=text/html:<span style="font-size:16px\;">Join the Perdido Key Area Chamber of Commerce in celebrating Green Line Arms with a ribbon cutting on June 15th at 10 AM.&nbsp\;&nbsp\;<br />\n<br />\nLimited Time Promotions:<br />\n&#128299\; 50% OFF Range and Rental<br />\n&#128165\; 10% OFF ALL Products!<br />\n&#128272\; 25% OFF New Memberships<br />\n<br />\nSpecial Offers:<br />\n&#10024\; Every customer receives a free logo sticker!<br />\n&#127903\;&#65039\; Raffle: Every $20 spent earns one entry.<br />\n<br />\nAdditional Activities:<br />\n&#128248\; Photo opportunities with firearms!<br />\n&#127828\; Food Trucks on site!<br />\n<br />\nDon&rsquo\;t miss out on these incredible offers and a chance to win big! See you there!<br />\nFor more information on what prizes you can win visit www.greenlinearms.com</span>
LOCATION:1350 S Blue Angel Parkway Pensacola\, FL 32506
UID:e.2644.35836
SEQUENCE:3
DTSTAMP:20260424T120309Z
URL:https://business.perdidochamber.com/events/details/2024-ribbon-cutting-grand-opening-green-line-arms-35836
END:VEVENT

END:VCALENDAR
