BEGIN:VCALENDAR
VERSION:2.0
PRODID:-//ChamberMaster//Event Calendar 2.0//EN
METHOD:PUBLISH
X-PUBLISHED-TTL:P3D
REFRESH-INTERVAL:P3D
CALSCALE:GREGORIAN
BEGIN:VEVENT
DTSTART:20240423T210000Z
DTEND:20240423T220000Z
X-MICROSOFT-CDO-ALLDAYEVENT:FALSE
SUMMARY:2024 Ribbon Cutting & Grand Opening - Kathy Justice\, Levin Rinke Realty Office
DESCRIPTION:Come celebrate the Grand Opening of the NEW Kathy Justice\, Levin Rinke Realty office located in the Villagio Town Center. Join the Perdido Key Area Chamber of Commerce for a Ribbon Cutting Celebration! Don't miss this chance to tour their beautiful new office and meet the Kathy Justice Team! \n\n\n\nWe will see you Tuesday\, April 23rd at 4:00PM!
X-ALT-DESC;FMTTYPE=text/html:<span style="font-size:16px\;"><span style="font-family:arial\;">Come celebrate the Grand Opening of the NEW Kathy Justice\, Levin Rinke Realty office located in the Villagio Town Center. Join the Perdido Key Area Chamber of Commerce for a Ribbon Cutting Celebration! Don&#39\;t miss this chance to tour their beautiful new office and meet the Kathy Justice Team!&nbsp\;<br />\n<br />\nWe will see you Tuesday\, April 23rd at 4:00PM!</span></span><br />\n<br />\n&nbsp\;
LOCATION:13700 Perdido Key Drive\, Suite B-125 Perdido Key\, FL 32507
UID:e.2644.35703
SEQUENCE:3
DTSTAMP:20260424T160727Z
URL:https://business.perdidochamber.com/events/details/2024-ribbon-cutting-grand-opening-kathy-justice-levin-rinke-realty-office-35703
END:VEVENT

END:VCALENDAR
