BEGIN:VCALENDAR
VERSION:2.0
PRODID:-//ChamberMaster//Event Calendar 2.0//EN
METHOD:PUBLISH
X-PUBLISHED-TTL:P3D
REFRESH-INTERVAL:P3D
CALSCALE:GREGORIAN
BEGIN:VEVENT
DTSTART:20240510T160000Z
DTEND:20240510T170000Z
X-MICROSOFT-CDO-ALLDAYEVENT:FALSE
SUMMARY:2024 Ribbon Cutting & Grand Opening - Printing Pros Foley Office
DESCRIPTION:Come celebrate the Grand Opening of the NEW Printing Pros office in Foley\, AL. Join the Perdido Key Area Chamber of Commerce for a Ribbon Cutting Celebration! Don't miss this chance to tour their new office and see all the services that Printing Pros has to offer.
X-ALT-DESC;FMTTYPE=text/html:<span style="font-size:16px\;"><span style="font-family:arial\;">Come celebrate the Grand Opening of the NEW Printing Pros office in Foley\, AL. Join the Perdido Key Area Chamber of Commerce for a Ribbon Cutting Celebration! Don&#39\;t miss this chance to tour their new office and see all the services that Printing Pros has to offer.&nbsp\;</span></span>
LOCATION:111 W. Camphor Ave.\, Ste. B Foley\, AL 36535
UID:e.2644.35716
SEQUENCE:3
DTSTAMP:20260424T134725Z
URL:https://business.perdidochamber.com/events/details/2024-ribbon-cutting-grand-opening-printing-pros-foley-office-35716
END:VEVENT

END:VCALENDAR
