BEGIN:VCALENDAR
VERSION:2.0
PRODID:-//ChamberMaster//Event Calendar 2.0//EN
METHOD:PUBLISH
X-PUBLISHED-TTL:P3D
REFRESH-INTERVAL:P3D
CALSCALE:GREGORIAN
BEGIN:VEVENT
DTSTART:20240501T200000Z
DTEND:20240501T210000Z
X-MICROSOFT-CDO-ALLDAYEVENT:FALSE
SUMMARY:2024 Ribbon Cutting & Grand Opening - Warrior Beer Company
DESCRIPTION:Join the Perdido Key Area Chamber of Commerce in celebrating Warrior Beer Company with a ribbon cutting on May 1st at 3:00PM. Stick around after for the grand opening party for Warrior Beer Company from 4:00PM - 10:00PM!
X-ALT-DESC;FMTTYPE=text/html:<span style="font-size:16px\;"><span style="font-family:arial\;">Join the Perdido Key Area Chamber of Commerce in celebrating Warrior Beer Company with a ribbon cutting on May 1st at 3:00PM. Stick around after for the grand opening party for Warrior Beer Company from 4:00PM - 10:00PM!&nbsp\;</span></span>
LOCATION:10605 Sorrento Rd. Pensacola\, FL 32507
UID:e.2644.35714
SEQUENCE:3
DTSTAMP:20260424T134735Z
URL:https://business.perdidochamber.com/events/details/2024-ribbon-cutting-grand-opening-warrior-beer-company-35714
END:VEVENT

END:VCALENDAR
