BEGIN:VCALENDAR
VERSION:2.0
PRODID:-//ChamberMaster//Event Calendar 2.0//EN
METHOD:PUBLISH
X-PUBLISHED-TTL:P3D
REFRESH-INTERVAL:P3D
CALSCALE:GREGORIAN
BEGIN:VEVENT
DTSTART:20240629T153000Z
DTEND:20240629T160000Z
X-MICROSOFT-CDO-ALLDAYEVENT:FALSE
SUMMARY:2024 Ribbon Cutting & Grand Re-Opening - Muscogee National of Northwest Florida
DESCRIPTION:Join the Perdido Key Area Chamber of Commerce for a Ribbon Cutting Celebration of the Grand Re-Opening of the Muscogee Nation of NWFL's Museum at 10:30AM. \n\n\n\nThe Muscogee Nation of Northwest Florida would like to formally invite you to their Grand Re-Opening Ceremony on Saturday\, June 29th at 10:00AM - 3:00PM. Event to announce their new stewardship over the museum\, its properties\, and to showcase all the updates of new exhibits. This event will include a ribbon cutting\, native vendors\, free food\, children's activities\, raffles\, and demonstrations of native tool making and arts.
X-ALT-DESC;FMTTYPE=text/html:<span style="font-size:16px\;"><span style="font-family:arial\;">Join the Perdido Key Area Chamber of Commerce for a Ribbon Cutting Celebration of the Grand Re-Opening of the Muscogee Nation of NWFL&#39\;s Museum at 10:30AM.&nbsp\;<br />\n<br />\nThe Muscogee Nation of Northwest Florida would like to formally invite you to their Grand Re-Opening Ceremony on Saturday\, June 29th at 10:00AM - 3:00PM. Event to announce their new stewardship over the museum\, its properties\, and to showcase all the updates of new exhibits. This event will include a ribbon cutting\, native vendors\, free food\, children&#39\;s activities\, raffles\, and demonstrations of native tool making and arts.&nbsp\;</span></span>
LOCATION:3300 Beloved Path Pensacola\, FL 32507
UID:e.2644.35727
SEQUENCE:3
DTSTAMP:20260424T120449Z
URL:https://business.perdidochamber.com/events/details/2024-ribbon-cutting-grand-re-opening-muscogee-national-of-northwest-florida-35727
END:VEVENT

END:VCALENDAR
