BEGIN:VCALENDAR
VERSION:2.0
PRODID:-//ChamberMaster//Event Calendar 2.0//EN
METHOD:PUBLISH
X-PUBLISHED-TTL:P3D
REFRESH-INTERVAL:P3D
CALSCALE:GREGORIAN
BEGIN:VEVENT
DTSTART:20240515T193000Z
DTEND:20240515T194500Z
X-MICROSOFT-CDO-ALLDAYEVENT:FALSE
SUMMARY:2024 Ribbon Cutting - Hector's Mexican Grill
DESCRIPTION:Join the Perdido Key Area Chamber of Commerce in celebrating Hector's Mexican Grill with a ribbon cutting on May 15th at 2:30PM! Hector's Mexican Grill is located at 13160 Sorrento Road in the PizzaLute lot.
X-ALT-DESC;FMTTYPE=text/html:<span style="font-size:16px\;"><span style="font-family:arial\;">Join the Perdido Key Area Chamber of Commerce in celebrating Hector&#39\;s Mexican Grill with a ribbon cutting on May 15th at 2:30PM!&nbsp\;Hector&#39\;s Mexican Grill is located at 13160 Sorrento Road in the PizzaLute lot.&nbsp\;</span></span>
LOCATION:13160 Sorrento Rd. Pensacola\, FL 32507
UID:e.2644.35708
SEQUENCE:3
DTSTAMP:20260424T134606Z
URL:https://business.perdidochamber.com/events/details/2024-ribbon-cutting-hector-s-mexican-grill-35708
END:VEVENT

END:VCALENDAR
