BEGIN:VCALENDAR
VERSION:2.0
PRODID:-//ChamberMaster//Event Calendar 2.0//EN
METHOD:PUBLISH
X-PUBLISHED-TTL:P3D
REFRESH-INTERVAL:P3D
CALSCALE:GREGORIAN
BEGIN:VEVENT
DTSTART:20240306T173000Z
DTEND:20240307T054500Z
X-MICROSOFT-CDO-ALLDAYEVENT:FALSE
SUMMARY:2024 Ribbon Cutting - La Casita Food Truck
DESCRIPTION:Join the Perdido Key Area Chamber of Commerce as we celebrate the Ribbon Cutting Celebration for La Casita Restaurant / Food Truck! Join in the celebration on March 5th at 11:30AM at their location off Gulf Beach Highway.
X-ALT-DESC;FMTTYPE=text/html:<span style="font-size:16px\;"><span style="font-family:arial\;">Join the Perdido Key Area Chamber of Commerce as we celebrate the Ribbon Cutting Celebration for La Casita Restaurant / Food Truck!&nbsp\;Join in the celebration on March 5th at 11:30AM at their location off Gulf Beach Highway.&nbsp\;</span></span>
LOCATION:La Casita Food Truck 12350 Gulf Beach Highway (Across from Big Lagoon State Park)
UID:e.2644.35558
SEQUENCE:3
DTSTAMP:20260424T171321Z
URL:https://business.perdidochamber.com/events/details/2024-ribbon-cutting-la-casita-food-truck-35558
END:VEVENT

END:VCALENDAR
