BEGIN:VCALENDAR
VERSION:2.0
PRODID:-//ChamberMaster//Event Calendar 2.0//EN
METHOD:PUBLISH
X-PUBLISHED-TTL:P3D
REFRESH-INTERVAL:P3D
CALSCALE:GREGORIAN
BEGIN:VEVENT
DTSTART:20240328T162500Z
DTEND:20240328T163000Z
X-MICROSOFT-CDO-ALLDAYEVENT:FALSE
SUMMARY:2024 Ribbon Cutting - Paul's Daiquiri Bar
DESCRIPTION:Join us in celebrating Paul's Pizza Co. with the opening of their new Daiquiri Bar on March 28th at 11:30AM. Join the Perdido Key Area Chamber of Commerce and Paul's Pizza Co. & Daiquiri Bar for a fun celebration right before the Networking Luncheon. \n\n\n\nNetworking Luncheon Registration Here - https://business.visitperdido.com/events/details/networking-luncheon-march-2024-35543
X-ALT-DESC;FMTTYPE=text/html:<span style="font-size:16px\;"><span style="font-family:arial\;">Join us in celebrating Paul&#39\;s Pizza Co. with the opening of their new Daiquiri Bar on March 28th at 11:30AM. Join the Perdido Key Area Chamber of Commerce and Paul&#39\;s Pizza Co. &amp\; Daiquiri Bar for a fun celebration right before the Networking Luncheon.&nbsp\;<br />\n<br />\nNetworking Luncheon Registration Here -<a href="https://business.visitperdido.com/events/details/networking-luncheon-march-2024-35543">&nbsp\;</a></span></span><a href="https://business.visitperdido.com/events/details/networking-luncheon-march-2024-35543">https://business.visitperdido.com/events/details/networking-luncheon-march-2024-35543</a>
LOCATION:Paul's Pizza Co. & Daiquiri Bar 13700 Perdido Key Drive Perdido Key\, FL 32507
UID:e.2644.35693
SEQUENCE:3
DTSTAMP:20260424T185619Z
URL:https://business.perdidochamber.com/events/details/2024-ribbon-cutting-paul-s-daiquiri-bar-35693
END:VEVENT

END:VCALENDAR
