BEGIN:VCALENDAR
VERSION:2.0
PRODID:-//ChamberMaster//Event Calendar 2.0//EN
METHOD:PUBLISH
X-PUBLISHED-TTL:P3D
REFRESH-INTERVAL:P3D
CALSCALE:GREGORIAN
BEGIN:VEVENT
DTSTART:20240502T210000Z
DTEND:20240502T211500Z
X-MICROSOFT-CDO-ALLDAYEVENT:FALSE
SUMMARY:2024 Ribbon Cutting - Perdido Key Bike Rentals
DESCRIPTION:Join us in celebrating Perdido Key Bike Rentals with a ribbon cutting on May 2nd at 4:00 PM. Join the Perdido Key Area Chamber of Commerce and Perdido Key Bike Rentals for a ribbon-cutting celebration right before the Lost Key Lighted Night Market
X-ALT-DESC;FMTTYPE=text/html:<span style="font-size:16px\;"><span style="font-family:arial\;">Join us in celebrating Perdido Key Bike Rentals with a ribbon cutting on May 2nd at 4:00 PM. Join the Perdido Key Area Chamber of Commerce and Perdido Key Bike Rentals for a ribbon-cutting celebration right before the Lost Key Lighted Night Market</span></span><br />\n&nbsp\;
LOCATION:Villagio Town Center 13700 Perdido Key Drive Perdido Key\, FL 32507
UID:e.2644.35707
SEQUENCE:3
DTSTAMP:20260424T134734Z
URL:https://business.perdidochamber.com/events/details/2024-ribbon-cutting-perdido-key-bike-rentals-35707
END:VEVENT

END:VCALENDAR
